BEGIN:VCALENDAR
VERSION:2.0
PRODID:-//Down Syndrome Association of Hamilton - ECPv6.15.20//NONSGML v1.0//EN
CALSCALE:GREGORIAN
METHOD:PUBLISH
X-WR-CALNAME:Down Syndrome Association of Hamilton
X-ORIGINAL-URL:https://dsah.ca
X-WR-CALDESC:Events for Down Syndrome Association of Hamilton
REFRESH-INTERVAL;VALUE=DURATION:PT1H
X-Robots-Tag:noindex
X-PUBLISHED-TTL:PT1H
BEGIN:VTIMEZONE
TZID:America/Halifax
BEGIN:DAYLIGHT
TZOFFSETFROM:-0400
TZOFFSETTO:-0300
TZNAME:ADT
DTSTART:20240310T060000
END:DAYLIGHT
BEGIN:STANDARD
TZOFFSETFROM:-0300
TZOFFSETTO:-0400
TZNAME:AST
DTSTART:20241103T050000
END:STANDARD
BEGIN:DAYLIGHT
TZOFFSETFROM:-0400
TZOFFSETTO:-0300
TZNAME:ADT
DTSTART:20250309T060000
END:DAYLIGHT
BEGIN:STANDARD
TZOFFSETFROM:-0300
TZOFFSETTO:-0400
TZNAME:AST
DTSTART:20251102T050000
END:STANDARD
BEGIN:DAYLIGHT
TZOFFSETFROM:-0400
TZOFFSETTO:-0300
TZNAME:ADT
DTSTART:20260308T060000
END:DAYLIGHT
BEGIN:STANDARD
TZOFFSETFROM:-0300
TZOFFSETTO:-0400
TZNAME:AST
DTSTART:20261101T050000
END:STANDARD
END:VTIMEZONE
BEGIN:VEVENT
DTSTART;TZID=America/Halifax:20251204T160000
DTEND;TZID=America/Halifax:20251204T190000
DTSTAMP:20260425T235152
CREATED:20251023T132412Z
LAST-MODIFIED:20251023T132413Z
UID:24211-1764864000-1764874800@dsah.ca
SUMMARY:OWLS
DESCRIPTION:Last session of Fall 2025 – www.dsah.ca/owls
URL:https://dsah.ca/event/owls-8/
LOCATION:ON
CATEGORIES:5-18 Programming,Advocacy / Education / Fundraising,Therapeutic
ATTACH;FMTTYPE=image/jpeg:https://dsah.ca/wp-content/uploads/LOGO-OWLS-2025-v2-.jpg
END:VEVENT
BEGIN:VEVENT
DTSTART;TZID=America/Halifax:20251204T191500
DTEND;TZID=America/Halifax:20251204T210000
DTSTAMP:20260425T235152
CREATED:20251023T133905Z
LAST-MODIFIED:20251023T133906Z
UID:24234-1764875700-1764882000@dsah.ca
SUMMARY:Board of Directors Meeting
DESCRIPTION:
URL:https://dsah.ca/event/board-of-directors-meeting-3/
LOCATION:ONLINE VIA ZOOM\, Your house
CATEGORIES:Board Meeting
ATTACH;FMTTYPE=image/jpeg:https://dsah.ca/wp-content/uploads/IMG_3336-2-scaled.jpeg
END:VEVENT
END:VCALENDAR