BEGIN:VCALENDAR
VERSION:2.0
PRODID:-//Down Syndrome Association of Hamilton - ECPv6.15.20//NONSGML v1.0//EN
CALSCALE:GREGORIAN
METHOD:PUBLISH
X-WR-CALNAME:Down Syndrome Association of Hamilton
X-ORIGINAL-URL:https://dsah.ca
X-WR-CALDESC:Events for Down Syndrome Association of Hamilton
REFRESH-INTERVAL;VALUE=DURATION:PT1H
X-Robots-Tag:noindex
X-PUBLISHED-TTL:PT1H
BEGIN:VTIMEZONE
TZID:UTC
BEGIN:STANDARD
TZOFFSETFROM:+0000
TZOFFSETTO:+0000
TZNAME:UTC
DTSTART:20240101T000000
END:STANDARD
END:VTIMEZONE
BEGIN:VEVENT
DTSTART;TZID=UTC:20251214T130000
DTEND;TZID=UTC:20251214T153000
DTSTAMP:20260425T235151
CREATED:20250909T185142Z
LAST-MODIFIED:20250909T185144Z
UID:23963-1765717200-1765726200@dsah.ca
SUMMARY:2025 Holiday Party
DESCRIPTION:Members! Join us for lunch at The Down Syndrome Association of Hamilton’s at Holiday Christmas Party. RSVP below. \n\n\n\n\n\n\n\nRSVP by December 1st\n\n\nPlease enable JavaScript in your browser to complete this form.Main Contact NameEmail *Phone		\n			Gift Attendee Adults\n			\n		\n		\n				Adult / Caregivers: Meal Selection\n			Adult/Caregiver NameMax 4 Adults Per Family.  Add more attendees by clicking the + iconLunch TypeRegularGluten FreeVegan\n				\n					\n				\n				\n					\n				\n			\n				Children/Teens/Siblings under 18 and Adults with DS: Meal & Gift Selection \n			Attendee Name and Last InitialAdd more attendees by clicking the + iconLunch TypeRegularGluten FreeVeganGift TypeInfant/ToddlerChild/YouthTeenAdult with Down syndrome\n				\n					\n				\n				\n					\n				\n			Submit
URL:https://dsah.ca/event/2025-holiday-party/
LOCATION:Garth Trails Clubhouse\, 45 Abbotsford Trail \,\, Hamilton\, ontario\, L9B 2X8\, Canada
CATEGORIES:Holiday,Special Event
ATTACH;FMTTYPE=image/jpeg:https://dsah.ca/wp-content/uploads/santa.jpg
ORGANIZER;CN="DSAH":MAILTO:contactus@dsah.ca
END:VEVENT
END:VCALENDAR