BEGIN:VCALENDAR
VERSION:2.0
PRODID:-//Down Syndrome Association of Hamilton - ECPv6.15.20//NONSGML v1.0//EN
CALSCALE:GREGORIAN
METHOD:PUBLISH
X-ORIGINAL-URL:https://dsah.ca
X-WR-CALDESC:Events for Down Syndrome Association of Hamilton
REFRESH-INTERVAL;VALUE=DURATION:PT1H
X-Robots-Tag:noindex
X-PUBLISHED-TTL:PT1H
BEGIN:VTIMEZONE
TZID:America/Halifax
BEGIN:DAYLIGHT
TZOFFSETFROM:-0400
TZOFFSETTO:-0300
TZNAME:ADT
DTSTART:20250309T060000
END:DAYLIGHT
BEGIN:STANDARD
TZOFFSETFROM:-0300
TZOFFSETTO:-0400
TZNAME:AST
DTSTART:20251102T050000
END:STANDARD
BEGIN:DAYLIGHT
TZOFFSETFROM:-0400
TZOFFSETTO:-0300
TZNAME:ADT
DTSTART:20260308T060000
END:DAYLIGHT
BEGIN:STANDARD
TZOFFSETFROM:-0300
TZOFFSETTO:-0400
TZNAME:AST
DTSTART:20261101T050000
END:STANDARD
BEGIN:DAYLIGHT
TZOFFSETFROM:-0400
TZOFFSETTO:-0300
TZNAME:ADT
DTSTART:20270314T060000
END:DAYLIGHT
BEGIN:STANDARD
TZOFFSETFROM:-0300
TZOFFSETTO:-0400
TZNAME:AST
DTSTART:20271107T050000
END:STANDARD
END:VTIMEZONE
BEGIN:VEVENT
DTSTART;TZID=America/Halifax:20260203T163000
DTEND;TZID=America/Halifax:20260203T173000
DTSTAMP:20260425T204905
CREATED:20251216T221815Z
LAST-MODIFIED:20251216T221816Z
UID:24390-1770136200-1770139800@dsah.ca
SUMMARY:Owlets - Winter 2026
DESCRIPTION:A free program for our youngest members\, siblings and caregivers. \n\n\n\n\n\nOwlets is an early literacy and communication skill building program. We explore concepts through signs\, stories and songs. With Blossom Musik and Speech and Language practice.  \n\n\n\n*All members 0-8 are welcome. We encourage you to contactus@dsah.ca if you haven’t attended before. \n\n\n\nDetails: www.dsah.ca/owls
URL:https://dsah.ca/event/owlets-winter-2026-2/
LOCATION:DSAH OFFICE @ the Hamilton Italian Centre\, 420 Crerar Drive\, Hamilton\, ON\, L9A 5K3\, Canada
CATEGORIES:0-4 Programming,0-8 Programming,Music,Therapeutic
END:VEVENT
END:VCALENDAR