BEGIN:VCALENDAR
VERSION:2.0
PRODID:-//Down Syndrome Association of Hamilton - ECPv6.15.20//NONSGML v1.0//EN
CALSCALE:GREGORIAN
METHOD:PUBLISH
X-WR-CALNAME:Down Syndrome Association of Hamilton
X-ORIGINAL-URL:https://dsah.ca
X-WR-CALDESC:Events for Down Syndrome Association of Hamilton
REFRESH-INTERVAL;VALUE=DURATION:PT1H
X-Robots-Tag:noindex
X-PUBLISHED-TTL:PT1H
BEGIN:VTIMEZONE
TZID:America/Halifax
BEGIN:DAYLIGHT
TZOFFSETFROM:-0400
TZOFFSETTO:-0300
TZNAME:ADT
DTSTART:20250309T060000
END:DAYLIGHT
BEGIN:STANDARD
TZOFFSETFROM:-0300
TZOFFSETTO:-0400
TZNAME:AST
DTSTART:20251102T050000
END:STANDARD
BEGIN:DAYLIGHT
TZOFFSETFROM:-0400
TZOFFSETTO:-0300
TZNAME:ADT
DTSTART:20260308T060000
END:DAYLIGHT
BEGIN:STANDARD
TZOFFSETFROM:-0300
TZOFFSETTO:-0400
TZNAME:AST
DTSTART:20261101T050000
END:STANDARD
BEGIN:DAYLIGHT
TZOFFSETFROM:-0400
TZOFFSETTO:-0300
TZNAME:ADT
DTSTART:20270314T060000
END:DAYLIGHT
BEGIN:STANDARD
TZOFFSETFROM:-0300
TZOFFSETTO:-0400
TZNAME:AST
DTSTART:20271107T050000
END:STANDARD
END:VTIMEZONE
BEGIN:VEVENT
DTSTART;TZID=America/Halifax:20260205T163000
DTEND;TZID=America/Halifax:20260205T193000
DTSTAMP:20260425T204726
CREATED:20260113T155713Z
LAST-MODIFIED:20260113T155714Z
UID:24405-1770309000-1770319800@dsah.ca
SUMMARY:OWLS - Winter 2026 Week 3
DESCRIPTION:www.dsah.ca/owls
URL:https://dsah.ca/event/owls-winter-2026-week-3/
LOCATION:DSAH OFFICE @ the Hamilton Italian Centre\, 420 Crerar Drive\, Hamilton\, ON\, L9A 5K3\, Canada
CATEGORIES:18+ Programming & Club G.A.I.N.,5-18 Programming,Advocacy / Education / Fundraising,Members Only,Therapeutic,Volunteers
ORGANIZER;CN="DSAH":MAILTO:contactus@dsah.ca
END:VEVENT
BEGIN:VEVENT
DTSTART;TZID=America/Halifax:20260205T190000
DTEND;TZID=America/Halifax:20260205T210000
DTSTAMP:20260425T204726
CREATED:20251023T134001Z
LAST-MODIFIED:20251023T134002Z
UID:24236-1770318000-1770325200@dsah.ca
SUMMARY:Board of Directors Meeting
DESCRIPTION:
URL:https://dsah.ca/event/board-of-directors-meeting-4/
LOCATION:DSAH OFFICE @ the Hamilton Italian Centre\, 420 Crerar Drive\, Hamilton\, ON\, L9A 5K3\, Canada
CATEGORIES:Board Meeting
ATTACH;FMTTYPE=image/jpeg:https://dsah.ca/wp-content/uploads/IMG_3336-2-scaled.jpeg
ORGANIZER;CN="DSAH BOARD":MAILTO:contactus@dsah.ca
END:VEVENT
END:VCALENDAR