BEGIN:VCALENDAR
VERSION:2.0
PRODID:-//Down Syndrome Association of Hamilton - ECPv6.15.20//NONSGML v1.0//EN
CALSCALE:GREGORIAN
METHOD:PUBLISH
X-ORIGINAL-URL:https://dsah.ca
X-WR-CALDESC:Events for Down Syndrome Association of Hamilton
REFRESH-INTERVAL;VALUE=DURATION:PT1H
X-Robots-Tag:noindex
X-PUBLISHED-TTL:PT1H
BEGIN:VTIMEZONE
TZID:America/Toronto
BEGIN:DAYLIGHT
TZOFFSETFROM:-0500
TZOFFSETTO:-0400
TZNAME:EDT
DTSTART:20250309T070000
END:DAYLIGHT
BEGIN:STANDARD
TZOFFSETFROM:-0400
TZOFFSETTO:-0500
TZNAME:EST
DTSTART:20251102T060000
END:STANDARD
BEGIN:DAYLIGHT
TZOFFSETFROM:-0500
TZOFFSETTO:-0400
TZNAME:EDT
DTSTART:20260308T070000
END:DAYLIGHT
BEGIN:STANDARD
TZOFFSETFROM:-0400
TZOFFSETTO:-0500
TZNAME:EST
DTSTART:20261101T060000
END:STANDARD
BEGIN:DAYLIGHT
TZOFFSETFROM:-0500
TZOFFSETTO:-0400
TZNAME:EDT
DTSTART:20270314T070000
END:DAYLIGHT
BEGIN:STANDARD
TZOFFSETFROM:-0400
TZOFFSETTO:-0500
TZNAME:EST
DTSTART:20271107T060000
END:STANDARD
END:VTIMEZONE
BEGIN:VEVENT
DTSTART;TZID=America/Toronto:20260618T163000
DTEND;TZID=America/Toronto:20260618T193000
DTSTAMP:20260425T204835
CREATED:20260317T135049Z
LAST-MODIFIED:20260317T135050Z
UID:24799-1781800200-1781811000@dsah.ca
SUMMARY:OWLS - Spring Wk8
DESCRIPTION:Final Week of Spring Session
URL:https://dsah.ca/event/owls-spring-wk8/
LOCATION:DSAH OFFICE @ the Hamilton Italian Centre\, 420 Crerar Drive\, Hamilton\, ON\, L9A 5K3\, Canada
CATEGORIES:18+ Programming & Club G.A.I.N.,5-18 Programming,Advocacy / Education / Fundraising,Members Only,Therapeutic,Volunteers
ATTACH;FMTTYPE=image/jpeg:https://dsah.ca/wp-content/uploads/LOGO-OWLS-2025-v2-.jpg
ORGANIZER;CN="DSAH":MAILTO:contactus@dsah.ca
END:VEVENT
END:VCALENDAR