BEGIN:VCALENDAR
VERSION:2.0
PRODID:-//Down Syndrome Association of Hamilton - ECPv6.15.20//NONSGML v1.0//EN
CALSCALE:GREGORIAN
METHOD:PUBLISH
X-WR-CALNAME:Down Syndrome Association of Hamilton
X-ORIGINAL-URL:https://dsah.ca
X-WR-CALDESC:Events for Down Syndrome Association of Hamilton
REFRESH-INTERVAL;VALUE=DURATION:PT1H
X-Robots-Tag:noindex
X-PUBLISHED-TTL:PT1H
BEGIN:VTIMEZONE
TZID:America/Toronto
BEGIN:DAYLIGHT
TZOFFSETFROM:-0500
TZOFFSETTO:-0400
TZNAME:EDT
DTSTART:20250309T070000
END:DAYLIGHT
BEGIN:STANDARD
TZOFFSETFROM:-0400
TZOFFSETTO:-0500
TZNAME:EST
DTSTART:20251102T060000
END:STANDARD
BEGIN:DAYLIGHT
TZOFFSETFROM:-0500
TZOFFSETTO:-0400
TZNAME:EDT
DTSTART:20260308T070000
END:DAYLIGHT
BEGIN:STANDARD
TZOFFSETFROM:-0400
TZOFFSETTO:-0500
TZNAME:EST
DTSTART:20261101T060000
END:STANDARD
BEGIN:DAYLIGHT
TZOFFSETFROM:-0500
TZOFFSETTO:-0400
TZNAME:EDT
DTSTART:20270314T070000
END:DAYLIGHT
BEGIN:STANDARD
TZOFFSETFROM:-0400
TZOFFSETTO:-0500
TZNAME:EST
DTSTART:20271107T060000
END:STANDARD
END:VTIMEZONE
BEGIN:VTIMEZONE
TZID:America/Halifax
BEGIN:DAYLIGHT
TZOFFSETFROM:-0400
TZOFFSETTO:-0300
TZNAME:ADT
DTSTART:20250309T060000
END:DAYLIGHT
BEGIN:STANDARD
TZOFFSETFROM:-0300
TZOFFSETTO:-0400
TZNAME:AST
DTSTART:20251102T050000
END:STANDARD
BEGIN:DAYLIGHT
TZOFFSETFROM:-0400
TZOFFSETTO:-0300
TZNAME:ADT
DTSTART:20260308T060000
END:DAYLIGHT
BEGIN:STANDARD
TZOFFSETFROM:-0300
TZOFFSETTO:-0400
TZNAME:AST
DTSTART:20261101T050000
END:STANDARD
BEGIN:DAYLIGHT
TZOFFSETFROM:-0400
TZOFFSETTO:-0300
TZNAME:ADT
DTSTART:20270314T060000
END:DAYLIGHT
BEGIN:STANDARD
TZOFFSETFROM:-0300
TZOFFSETTO:-0400
TZNAME:AST
DTSTART:20271107T050000
END:STANDARD
END:VTIMEZONE
BEGIN:VEVENT
DTSTART;TZID=America/Toronto:20260428T163000
DTEND;TZID=America/Toronto:20260428T173000
DTSTAMP:20260423T083013
CREATED:20260408T144448Z
LAST-MODIFIED:20260408T144450Z
UID:24839-1777393800-1777397400@dsah.ca
SUMMARY:Owlets - Spring Wk 1
DESCRIPTION:Owlets is an early literacy and communication skill building program. We explore concepts through signs\, stories and songs. \n\n\n\nAges 0-8 are welcome. We encourage you to email contactus@dsah.ca if you haven’t attended before. \n\n\n\n\n\n\n\n\n\n\n\n\n\nThis is a free program for our youngest members\, their siblings and caregivers.
URL:https://dsah.ca/event/owlets-spring-wk-1/
LOCATION:DSAH OFFICE @ the Hamilton Italian Centre\, 420 Crerar Drive\, Hamilton\, ON\, L9A 5K3\, Canada
CATEGORIES:0-8 Programming,Education,Music,Therapeutic
ATTACH;FMTTYPE=image/jpeg:https://dsah.ca/wp-content/uploads/IMG_9621-scaled.jpeg
ORGANIZER;CN="DSAH":MAILTO:contactus@dsah.ca
END:VEVENT
BEGIN:VEVENT
DTSTART;TZID=America/Toronto:20260430T163000
DTEND;TZID=America/Toronto:20260430T193000
DTSTAMP:20260423T083013
CREATED:20260317T133953Z
LAST-MODIFIED:20260317T133954Z
UID:24780-1777566600-1777577400@dsah.ca
SUMMARY:OWLS - Spring Wk1
DESCRIPTION:
URL:https://dsah.ca/event/owls-spring-wk1/
LOCATION:DSAH OFFICE @ the Hamilton Italian Centre\, 420 Crerar Drive\, Hamilton\, ON\, L9A 5K3\, Canada
CATEGORIES:18+ Programming & Club G.A.I.N.,5-18 Programming,Advocacy / Education / Fundraising,Members Only,Therapeutic,Volunteers
ATTACH;FMTTYPE=image/jpeg:https://dsah.ca/wp-content/uploads/LOGO-OWLS-2025-v2-.jpg
ORGANIZER;CN="DSAH":MAILTO:contactus@dsah.ca
END:VEVENT
BEGIN:VEVENT
DTSTART;TZID=America/Toronto:20260505T163000
DTEND;TZID=America/Toronto:20260505T173000
DTSTAMP:20260423T083013
CREATED:20260408T144601Z
LAST-MODIFIED:20260408T192956Z
UID:24841-1777998600-1778002200@dsah.ca
SUMMARY:Owlets - Spring Wk2
DESCRIPTION:Owlets is an early literacy and communication skill building program. We explore concepts through signs\, stories and songs. \n\n\n\nAges 0-8 are welcome. We encourage you to email contactus@dsah.ca if you haven’t attended before.
URL:https://dsah.ca/event/24841/
LOCATION:DSAH OFFICE @ the Hamilton Italian Centre\, 420 Crerar Drive\, Hamilton\, ON\, L9A 5K3\, Canada
CATEGORIES:0-8 Programming,Education,Therapeutic
ATTACH;FMTTYPE=image/jpeg:https://dsah.ca/wp-content/uploads/IMG_9621-scaled.jpeg
ORGANIZER;CN="DSAH":MAILTO:contactus@dsah.ca
END:VEVENT
BEGIN:VEVENT
DTSTART;TZID=America/Toronto:20260507T163000
DTEND;TZID=America/Toronto:20260507T193000
DTSTAMP:20260423T083013
CREATED:20260317T134129Z
LAST-MODIFIED:20260317T134130Z
UID:24783-1778171400-1778182200@dsah.ca
SUMMARY:OWLS - Spring Wk2
DESCRIPTION:
URL:https://dsah.ca/event/owls-spring-wk2/
LOCATION:DSAH OFFICE @ the Hamilton Italian Centre\, 420 Crerar Drive\, Hamilton\, ON\, L9A 5K3\, Canada
CATEGORIES:18+ Programming & Club G.A.I.N.,5-18 Programming,Advocacy / Education / Fundraising,Members Only,Therapeutic,Volunteers
ATTACH;FMTTYPE=image/jpeg:https://dsah.ca/wp-content/uploads/LOGO-OWLS-2025-v2-.jpg
ORGANIZER;CN="DSAH":MAILTO:contactus@dsah.ca
END:VEVENT
BEGIN:VEVENT
DTSTART;TZID=America/Toronto:20260507T193000
DTEND;TZID=America/Toronto:20260507T210000
DTSTAMP:20260423T083013
CREATED:20260317T135336Z
LAST-MODIFIED:20260317T135337Z
UID:24804-1778182200-1778187600@dsah.ca
SUMMARY:Board of Directors Meeting
DESCRIPTION:Via Zoom
URL:https://dsah.ca/event/board-of-directors-meeting-2/
LOCATION:Your house
CATEGORIES:Board Meeting
ATTACH;FMTTYPE=image/jpeg:https://dsah.ca/wp-content/uploads/IMG_3336-2-scaled.jpeg
ORGANIZER;CN="DSAH BOARD":MAILTO:contactus@dsah.ca
END:VEVENT
BEGIN:VEVENT
DTSTART;TZID=America/Toronto:20260512T163000
DTEND;TZID=America/Toronto:20260512T173000
DTSTAMP:20260423T083013
CREATED:20260408T144711Z
LAST-MODIFIED:20260408T144712Z
UID:24843-1778603400-1778607000@dsah.ca
SUMMARY:Owlets - Spring Wk 3
DESCRIPTION:Owlets is an early literacy and communication skill building program. We explore concepts through signs\, stories and songs. \n\n\n\nAges 0-8 are welcome. We encourage you to email contactus@dsah.ca if you haven’t attended before.
URL:https://dsah.ca/event/owlets-spring-wk-3/
LOCATION:DSAH OFFICE @ the Hamilton Italian Centre\, 420 Crerar Drive\, Hamilton\, ON\, L9A 5K3\, Canada
CATEGORIES:0-8 Programming,Education,Music,Therapeutic
ATTACH;FMTTYPE=image/jpeg:https://dsah.ca/wp-content/uploads/IMG_9621-scaled.jpeg
ORGANIZER;CN="DSAH":MAILTO:contactus@dsah.ca
END:VEVENT
BEGIN:VEVENT
DTSTART;TZID=America/Toronto:20260514T163000
DTEND;TZID=America/Toronto:20260514T193000
DTSTAMP:20260423T083013
CREATED:20260317T134240Z
LAST-MODIFIED:20260317T134241Z
UID:24785-1778776200-1778787000@dsah.ca
SUMMARY:OWLS - Spring Wk3
DESCRIPTION:
URL:https://dsah.ca/event/owls-spring-wk3/
LOCATION:DSAH OFFICE @ the Hamilton Italian Centre\, 420 Crerar Drive\, Hamilton\, ON\, L9A 5K3\, Canada
CATEGORIES:18+ Programming & Club G.A.I.N.,5-18 Programming,Advocacy / Education / Fundraising,Members Only,Therapeutic,Volunteers
ATTACH;FMTTYPE=image/jpeg:https://dsah.ca/wp-content/uploads/LOGO-OWLS-2025-v2-.jpg
ORGANIZER;CN="DSAH":MAILTO:contactus@dsah.ca
END:VEVENT
BEGIN:VEVENT
DTSTART;TZID=America/Toronto:20260519T163000
DTEND;TZID=America/Toronto:20260519T173000
DTSTAMP:20260423T083013
CREATED:20260408T144822Z
LAST-MODIFIED:20260408T193446Z
UID:24845-1779208200-1779211800@dsah.ca
SUMMARY:Owlets - Spring Wk 4
DESCRIPTION:Owlets is an early literacy and communication skill building program. We explore concepts through signs\, stories and songs. \n\n\n\nAges 0-8 are welcome. We encourage you to email contactus@dsah.ca if you haven’t attended before.
URL:https://dsah.ca/event/owlets-spring-wk-4/
LOCATION:DSAH OFFICE @ the Hamilton Italian Centre\, 420 Crerar Drive\, Hamilton\, ON\, L9A 5K3\, Canada
CATEGORIES:0-8 Programming,Education,Music,Therapeutic
ATTACH;FMTTYPE=image/jpeg:https://dsah.ca/wp-content/uploads/IMG_9621-scaled.jpeg
ORGANIZER;CN="DSAH":MAILTO:contactus@dsah.ca
END:VEVENT
BEGIN:VEVENT
DTSTART;TZID=America/Toronto:20260519T180000
DTEND;TZID=America/Toronto:20260519T193000
DTSTAMP:20260423T083013
CREATED:20260118T200940Z
LAST-MODIFIED:20260127T153626Z
UID:24530-1779213600-1779219000@dsah.ca
SUMMARY:321 Go! What's Cooking Good Looking?
DESCRIPTION:May 19th  \n\n\n\n321 Go! is a social and activity-based club designed specifically for adults with Down syndrome who want to get out\, get moving\, and try something new. The club focuses on connection\, confidence\, and active living. \n\n\n\nMembers participate in a variety of inclusive activities such as walking groups\, fitness classes\, recreational sports\, community outings\, and new experiences that encourage independence and personal growth. \n\n\n\nParticipants will take part in a nutrition session followed by getting their hands busy cooking up a meal for themselves and friends.  \n\n\n\nLocation & Time to be confirmed. Confirm your attendance below! \n\n\nPlease enable JavaScript in your browser to complete this form.		\n			Contact  Name\n			\n		\n		Member Name  *This offer is only available to advocate members. (Adults with Down syndrome)Parent/Caregiver Contact Name and Phone *Email *Submit
URL:https://dsah.ca/event/321-go-whats-cooking-good-looking/
LOCATION:ON
CATEGORIES:18+ Programming & Club G.A.I.N.,Active Living,Social,Workshop/Conference/Seminar
ATTACH;FMTTYPE=image/jpeg:https://dsah.ca/wp-content/uploads/321GoMain.jpeg
ORGANIZER;CN="DSAH":MAILTO:contactus@dsah.ca
END:VEVENT
BEGIN:VEVENT
DTSTART;TZID=America/Toronto:20260521T163000
DTEND;TZID=America/Toronto:20260521T193000
DTSTAMP:20260423T083013
CREATED:20260317T134346Z
LAST-MODIFIED:20260317T135152Z
UID:24787-1779381000-1779391800@dsah.ca
SUMMARY:OWLS - Spring Wk4
DESCRIPTION:
URL:https://dsah.ca/event/owls-spring-wk4/
LOCATION:DSAH OFFICE @ the Hamilton Italian Centre\, 420 Crerar Drive\, Hamilton\, ON\, L9A 5K3\, Canada
CATEGORIES:5-18 Programming,Advocacy / Education / Fundraising,Members Only,Therapeutic,Volunteers
ATTACH;FMTTYPE=image/jpeg:https://dsah.ca/wp-content/uploads/LOGO-OWLS-2025-v2-.jpg
ORGANIZER;CN="DSAH":MAILTO:contactus@dsah.ca
END:VEVENT
BEGIN:VEVENT
DTSTART;TZID=America/Toronto:20260526T163000
DTEND;TZID=America/Toronto:20260526T173000
DTSTAMP:20260423T083013
CREATED:20260408T145902Z
LAST-MODIFIED:20260408T193030Z
UID:24847-1779813000-1779816600@dsah.ca
SUMMARY:Owlets - Spring Wk 5
DESCRIPTION:Owlets is an early literacy and communication skill building program. We explore concepts through signs\, stories and songs. \n\n\n\nAges 0-8 are welcome. We encourage you to email contactus@dsah.ca if you haven’t attended before.
URL:https://dsah.ca/event/owlets-spring-wk-5/
LOCATION:DSAH OFFICE @ the Hamilton Italian Centre\, 420 Crerar Drive\, Hamilton\, ON\, L9A 5K3\, Canada
CATEGORIES:0-8 Programming,Education,Music,Therapeutic
ATTACH;FMTTYPE=image/jpeg:https://dsah.ca/wp-content/uploads/IMG_9621-scaled.jpeg
ORGANIZER;CN="DSAH":MAILTO:contactus@dsah.ca
END:VEVENT
BEGIN:VEVENT
DTSTART;TZID=America/Toronto:20260528T163000
DTEND;TZID=America/Toronto:20260528T193000
DTSTAMP:20260423T083013
CREATED:20260317T134632Z
LAST-MODIFIED:20260317T134633Z
UID:24792-1779985800-1779996600@dsah.ca
SUMMARY:OWLS - Spring Wk5
DESCRIPTION:
URL:https://dsah.ca/event/owls-spring-wk5/
LOCATION:DSAH OFFICE @ the Hamilton Italian Centre\, 420 Crerar Drive\, Hamilton\, ON\, L9A 5K3\, Canada
CATEGORIES:18+ Programming & Club G.A.I.N.,5-18 Programming,Advocacy / Education / Fundraising,Members Only,Therapeutic,Volunteers
ATTACH;FMTTYPE=image/jpeg:https://dsah.ca/wp-content/uploads/LOGO-OWLS-2025-v2-.jpg
ORGANIZER;CN="DSAH":MAILTO:contactus@dsah.ca
END:VEVENT
BEGIN:VEVENT
DTSTART;TZID=America/Toronto:20260602T163000
DTEND;TZID=America/Toronto:20260602T173000
DTSTAMP:20260423T083013
CREATED:20260408T201621Z
LAST-MODIFIED:20260412T111511Z
UID:24849-1780417800-1780421400@dsah.ca
SUMMARY:Owlets - Spring Wk 6
DESCRIPTION:Owlets is an early literacy and communication skill building program. We explore concepts through signs\, stories and songs. \n\n\n\nAges 0-8 are welcome. We encourage you to email contactus@dsah.ca if you haven’t attended before.
URL:https://dsah.ca/event/owlets-spring-wk-6/
LOCATION:DSAH OFFICE @ the Hamilton Italian Centre\, 420 Crerar Drive\, Hamilton\, ON\, L9A 5K3\, Canada
CATEGORIES:0-8 Programming,Education,Music,Therapeutic
ATTACH;FMTTYPE=image/jpeg:https://dsah.ca/wp-content/uploads/IMG_9621-scaled.jpeg
ORGANIZER;CN="DSAH":MAILTO:contactus@dsah.ca
END:VEVENT
BEGIN:VEVENT
DTSTART;TZID=America/Toronto:20260604T163000
DTEND;TZID=America/Toronto:20260604T193000
DTSTAMP:20260423T083013
CREATED:20260317T134754Z
LAST-MODIFIED:20260317T134755Z
UID:24794-1780590600-1780601400@dsah.ca
SUMMARY:OWLS - Spring Wk6
DESCRIPTION:
URL:https://dsah.ca/event/owls-spring-wk6/
LOCATION:DSAH OFFICE @ the Hamilton Italian Centre\, 420 Crerar Drive\, Hamilton\, ON\, L9A 5K3\, Canada
CATEGORIES:18+ Programming & Club G.A.I.N.,5-18 Programming,Advocacy / Education / Fundraising,Therapeutic,Volunteers
ATTACH;FMTTYPE=image/jpeg:https://dsah.ca/wp-content/uploads/LOGO-OWLS-2025-v2-.jpg
ORGANIZER;CN="DSAH":MAILTO:contactus@dsah.ca
END:VEVENT
BEGIN:VEVENT
DTSTART;TZID=America/Halifax:20260604T180000
DTEND;TZID=America/Halifax:20260604T200000
DTSTAMP:20260423T083013
CREATED:20251023T134539Z
LAST-MODIFIED:20260421T203345Z
UID:24243-1780596000-1780603200@dsah.ca
SUMMARY:ANNUAL GENERAL MEETING & BOARD OF DIRECTOR ELECTIONS
DESCRIPTION:Presented by Board of Directors. \n\n\n\n\n\n\nPlease enable JavaScript in your browser to complete this form.Name *FirstLastEmail *# of Adults Attending *		\n			Attending Cheddar #\n			\n		\n		# of Children Attending *PITA PIT SELECTIONChicken Caesar\, Buffalo Chicken\, Steak\, Garden Cheddar (Veg)\, Falafel (Veg)\, # of Chicken Ceasar Pita# of Buffalo Chicken# of Steak# of Falafel (Veg)# of Garden Cheddar (Veg)Gluten Free Pita?Write ‘GF’ in the sections above if you require a Gluten Free Pita with your selectionSubmit
URL:https://dsah.ca/event/annual-general-meeting/
LOCATION:DSAH OFFICE @ the Hamilton Italian Centre\, 420 Crerar Drive\, Hamilton\, ON\, L9A 5K3\, Canada
CATEGORIES:Board Meeting,Special Event
ATTACH;FMTTYPE=image/jpeg:https://dsah.ca/wp-content/uploads/2692-x-Vector-File-2025-DSAH-Tree-Logo2.jpg
ORGANIZER;CN="DSAH BOARD":MAILTO:contactus@dsah.ca
END:VEVENT
BEGIN:VEVENT
DTSTART;TZID=America/Toronto:20260609T163000
DTEND;TZID=America/Toronto:20260609T173000
DTSTAMP:20260423T083013
CREATED:20260408T193411Z
LAST-MODIFIED:20260408T193412Z
UID:24856-1781022600-1781026200@dsah.ca
SUMMARY:Owlets - Spring Wk 7
DESCRIPTION:
URL:https://dsah.ca/event/owlets-spring-wk-7/
LOCATION:DSAH OFFICE @ the Hamilton Italian Centre\, 420 Crerar Drive\, Hamilton\, ON\, L9A 5K3\, Canada
CATEGORIES:0-8 Programming,Education,Therapeutic
ATTACH;FMTTYPE=image/jpeg:https://dsah.ca/wp-content/uploads/IMG_9621-scaled.jpeg
ORGANIZER;CN="DSAH":MAILTO:contactus@dsah.ca
END:VEVENT
BEGIN:VEVENT
DTSTART;TZID=America/Toronto:20260611T163000
DTEND;TZID=America/Toronto:20260611T193000
DTSTAMP:20260423T083013
CREATED:20260317T134938Z
LAST-MODIFIED:20260317T134940Z
UID:24797-1781195400-1781206200@dsah.ca
SUMMARY:OWLS - Spring Wk7
DESCRIPTION:
URL:https://dsah.ca/event/owls-spring-wk7/
LOCATION:DSAH OFFICE @ the Hamilton Italian Centre\, 420 Crerar Drive\, Hamilton\, ON\, L9A 5K3\, Canada
CATEGORIES:18+ Programming & Club G.A.I.N.,5-18 Programming,Advocacy / Education / Fundraising,Members Only,Therapeutic,Volunteers
ATTACH;FMTTYPE=image/jpeg:https://dsah.ca/wp-content/uploads/LOGO-OWLS-2025-v2-.jpg
ORGANIZER;CN="DSAH":MAILTO:contactus@dsah.ca
END:VEVENT
BEGIN:VEVENT
DTSTART;TZID=America/Toronto:20260616T163000
DTEND;TZID=America/Toronto:20260616T173000
DTSTAMP:20260423T083013
CREATED:20260408T193221Z
LAST-MODIFIED:20260408T193222Z
UID:24852-1781627400-1781631000@dsah.ca
SUMMARY:Owlets - Spring Wk 8
DESCRIPTION:Owlets is an early literacy and communication skill building program. We explore concepts through signs\, stories and songs. \n\n\n\nAges 0-8 are welcome. We encourage you to email contactus@dsah.ca if you haven’t attended before.
URL:https://dsah.ca/event/owlets-spring-wk-8/
LOCATION:DSAH OFFICE @ the Hamilton Italian Centre\, 420 Crerar Drive\, Hamilton\, ON\, L9A 5K3\, Canada
CATEGORIES:0-8 Programming,Education,Therapeutic
ORGANIZER;CN="DSAH":MAILTO:contactus@dsah.ca
END:VEVENT
BEGIN:VEVENT
DTSTART;TZID=America/Toronto:20260618T163000
DTEND;TZID=America/Toronto:20260618T193000
DTSTAMP:20260423T083013
CREATED:20260317T135049Z
LAST-MODIFIED:20260317T135050Z
UID:24799-1781800200-1781811000@dsah.ca
SUMMARY:OWLS - Spring Wk8
DESCRIPTION:Final Week of Spring Session
URL:https://dsah.ca/event/owls-spring-wk8/
LOCATION:DSAH OFFICE @ the Hamilton Italian Centre\, 420 Crerar Drive\, Hamilton\, ON\, L9A 5K3\, Canada
CATEGORIES:18+ Programming & Club G.A.I.N.,5-18 Programming,Advocacy / Education / Fundraising,Members Only,Therapeutic,Volunteers
ATTACH;FMTTYPE=image/jpeg:https://dsah.ca/wp-content/uploads/LOGO-OWLS-2025-v2-.jpg
ORGANIZER;CN="DSAH":MAILTO:contactus@dsah.ca
END:VEVENT
BEGIN:VEVENT
DTSTART;TZID=America/Toronto:20260620T120000
DTEND;TZID=America/Toronto:20260620T160000
DTSTAMP:20260423T083013
CREATED:20260118T201838Z
LAST-MODIFIED:20260127T113612Z
UID:24537-1781956800-1781971200@dsah.ca
SUMMARY:321 Go! Summer Send Off
DESCRIPTION:June 20th – 321Go! \n\n\n\n321 Go! is a social and activity-based club designed specifically for adults with Down syndrome who want to get out\, get moving\, and try something new. The club focuses on connection\, confidence\, and active living. \n\n\n\nMembers participate in a variety of inclusive activities such as walking groups\, fitness classes\, recreational sports\, community outings\, and new experiences that encourage independence and personal growth. \n\n\n\n“Summer Send Off” – Drop off @ Hutches on the Beach for lunch followed by a walk down to Adventure Village for an activity pick up at this location  \n\n\n\n(Weather permitting) \n\n\n\n\nPlease enable JavaScript in your browser to complete this form.		\n			and Email Name\n			\n		\n		Member Name  *This offer is only available to advocate members. (Adults with Down syndrome)Parent/Caregiver Contact Name and Phone *Email *Submit
URL:https://dsah.ca/event/321-go-summer-send-off/
LOCATION:Hutches on the Beach\, 280 Van Wagners Beach Rd\,\, Hamilton\,\, on\, L8E 3L8\, Canada
CATEGORIES:18+ Programming & Club G.A.I.N.,Active Living,Social
ATTACH;FMTTYPE=image/jpeg:https://dsah.ca/wp-content/uploads/321GoMain.jpeg
ORGANIZER;CN="DSAH":MAILTO:contactus@dsah.ca
END:VEVENT
BEGIN:VEVENT
DTSTART;TZID=America/Toronto:20260701T080000
DTEND;TZID=America/Toronto:20260701T170000
DTSTAMP:20260423T083013
CREATED:20260225T212543Z
LAST-MODIFIED:20260225T212544Z
UID:24664-1782892800-1782925200@dsah.ca
SUMMARY:WALK Fundraising Teams Launch
DESCRIPTION:Our annual fundraising campaign starts! Visit www.dsah.ca/walk for all the details.
URL:https://dsah.ca/event/walk-fundraising-teams-launch/
LOCATION:Your house
CATEGORIES:Advocacy / Education / Fundraising,Community Partner Event,Social,Special Event,Volunteers
ATTACH;FMTTYPE=image/jpeg:https://dsah.ca/wp-content/uploads/DSAH_Walk2023-184-1-scaled.jpg
ORGANIZER;CN="DSAH":MAILTO:contactus@dsah.ca
END:VEVENT
BEGIN:VEVENT
DTSTART;TZID=America/Halifax:20260920T090000
DTEND;TZID=America/Halifax:20260920T120000
DTSTAMP:20260423T083013
CREATED:20260113T155251Z
LAST-MODIFIED:20260113T155252Z
UID:24397-1789894800-1789905600@dsah.ca
SUMMARY:The 2026 Hamilton Walk for Down Syndrome
DESCRIPTION:SAVE THE DATE – MORE INFO COMING SOON!
URL:https://dsah.ca/event/the-2026-hamilton-walk-for-down-syndrome/
LOCATION:TB McQuesten Park\, 1199 Upper Wentworth St\, Hamilton\, ON\, L8W 2Y7
CATEGORIES:Advocacy / Education / Fundraising,Community Partner Event,Social,Special Event,Volunteers
ORGANIZER;CN="DSAH":MAILTO:contactus@dsah.ca
END:VEVENT
BEGIN:VEVENT
DTSTART;TZID=America/Toronto:20261007T163000
DTEND;TZID=America/Toronto:20261007T193000
DTSTAMP:20260423T083013
CREATED:20260331T153442Z
LAST-MODIFIED:20260331T153456Z
UID:24827-1791390600-1791401400@dsah.ca
SUMMARY:Professional Development for Educators
DESCRIPTION:Join Down syndrome experts and therapists to learn effective strategies for students with Down syndrome. This professional development workshop is free! Door prizes and meal included!
URL:https://dsah.ca/event/professional-development-for-educators/
LOCATION:DSAH OFFICE @ the Hamilton Italian Centre\, 420 Crerar Drive\, Hamilton\, ON\, L9A 5K3\, Canada
CATEGORIES:Advocacy / Education / Fundraising,Therapeutic,Workshop/Conference/Seminar
ATTACH;FMTTYPE=image/png:https://dsah.ca/wp-content/uploads/Learning-and-DS-Poster-v1.png
ORGANIZER;CN="DSAH":MAILTO:contactus@dsah.ca
END:VEVENT
END:VCALENDAR