BEGIN:VCALENDAR
VERSION:2.0
PRODID:-//Down Syndrome Association of Hamilton - ECPv6.15.20//NONSGML v1.0//EN
CALSCALE:GREGORIAN
METHOD:PUBLISH
X-WR-CALNAME:Down Syndrome Association of Hamilton
X-ORIGINAL-URL:https://dsah.ca
X-WR-CALDESC:Events for Down Syndrome Association of Hamilton
REFRESH-INTERVAL;VALUE=DURATION:PT1H
X-Robots-Tag:noindex
X-PUBLISHED-TTL:PT1H
BEGIN:VTIMEZONE
TZID:America/Halifax
BEGIN:DAYLIGHT
TZOFFSETFROM:-0400
TZOFFSETTO:-0300
TZNAME:ADT
DTSTART:20240310T060000
END:DAYLIGHT
BEGIN:STANDARD
TZOFFSETFROM:-0300
TZOFFSETTO:-0400
TZNAME:AST
DTSTART:20241103T050000
END:STANDARD
BEGIN:DAYLIGHT
TZOFFSETFROM:-0400
TZOFFSETTO:-0300
TZNAME:ADT
DTSTART:20250309T060000
END:DAYLIGHT
BEGIN:STANDARD
TZOFFSETFROM:-0300
TZOFFSETTO:-0400
TZNAME:AST
DTSTART:20251102T050000
END:STANDARD
BEGIN:DAYLIGHT
TZOFFSETFROM:-0400
TZOFFSETTO:-0300
TZNAME:ADT
DTSTART:20260308T060000
END:DAYLIGHT
BEGIN:STANDARD
TZOFFSETFROM:-0300
TZOFFSETTO:-0400
TZNAME:AST
DTSTART:20261101T050000
END:STANDARD
END:VTIMEZONE
BEGIN:VTIMEZONE
TZID:UTC
BEGIN:STANDARD
TZOFFSETFROM:+0000
TZOFFSETTO:+0000
TZNAME:UTC
DTSTART:20240101T000000
END:STANDARD
END:VTIMEZONE
BEGIN:VEVENT
DTSTART;TZID=America/Halifax:20251127T160000
DTEND;TZID=America/Halifax:20251127T190000
DTSTAMP:20260426T001738
CREATED:20251023T132323Z
LAST-MODIFIED:20251023T132324Z
UID:24209-1764259200-1764270000@dsah.ca
SUMMARY:OWLS
DESCRIPTION:www.dsah.ca/owls
URL:https://dsah.ca/event/owls-7/
LOCATION:ON
CATEGORIES:5-18 Programming,Advocacy / Education / Fundraising,Therapeutic
ATTACH;FMTTYPE=image/jpeg:https://dsah.ca/wp-content/uploads/LOGO-OWLS-2025-v2-.jpg
END:VEVENT
BEGIN:VEVENT
DTSTART;TZID=UTC:20251125T160000
DTEND;TZID=UTC:20251125T180000
DTSTAMP:20260426T001738
CREATED:20251013T161347Z
LAST-MODIFIED:20251013T161348Z
UID:24032-1764086400-1764093600@dsah.ca
SUMMARY:Owlets
DESCRIPTION:TUESDAYS OCTOBER 14- DECEMBER 2 \n\n\n\nAn early literacy group featuring songs\, signs and stories.  \n\n\n\nNew participants and siblings are welcome! If you haven’t attended before\, please contact us before attending. \n\n\n\nAges 0-8
URL:https://dsah.ca/event/owlets-6/
LOCATION:DSAH OFFICE @ the Hamilton Italian Centre\, 420 Crerar Drive\, Hamilton\, ON\, L9A 5K3\, Canada
CATEGORIES:0-4 Programming,0-8 Programming,Music,Therapeutic
ATTACH;FMTTYPE=image/jpeg:https://dsah.ca/wp-content/uploads/IMG_9621-scaled.jpeg
ORGANIZER;CN="DSAH":MAILTO:contactus@dsah.ca
END:VEVENT
BEGIN:VEVENT
DTSTART;TZID=America/Halifax:20251120T160000
DTEND;TZID=America/Halifax:20251120T190000
DTSTAMP:20260426T001738
CREATED:20251023T132222Z
LAST-MODIFIED:20251023T132443Z
UID:24206-1763654400-1763665200@dsah.ca
SUMMARY:OWLS
DESCRIPTION:www.dsah.ca/owls
URL:https://dsah.ca/event/owls-6/
LOCATION:ON
CATEGORIES:5-18 Programming,Advocacy / Education / Fundraising,Therapeutic
ATTACH;FMTTYPE=image/jpeg:https://dsah.ca/wp-content/uploads/LOGO-OWLS-2025-v2-.jpg
END:VEVENT
BEGIN:VEVENT
DTSTART;TZID=UTC:20251118T160000
DTEND;TZID=UTC:20251118T180000
DTSTAMP:20260426T001738
CREATED:20251013T160827Z
LAST-MODIFIED:20251013T161051Z
UID:24029-1763481600-1763488800@dsah.ca
SUMMARY:Owlets
DESCRIPTION:TUESDAYS OCTOBER 14- DECEMBER 2 \n\n\n\nAn early literacy group featuring songs\, signs and stories.  \n\n\n\nNew participants and siblings are welcome! If you haven’t attended before\, please contact us before attending. \n\n\n\nAges 0-8
URL:https://dsah.ca/event/24029/
LOCATION:DSAH OFFICE @ the Hamilton Italian Centre\, 420 Crerar Drive\, Hamilton\, ON\, L9A 5K3\, Canada
CATEGORIES:0-4 Programming,0-8 Programming,Music,Therapeutic
ATTACH;FMTTYPE=image/jpeg:https://dsah.ca/wp-content/uploads/IMG_9621-scaled.jpeg
ORGANIZER;CN="DSAH":MAILTO:contactus@dsah.ca
END:VEVENT
BEGIN:VEVENT
DTSTART;TZID=America/Halifax:20251118T063000
DTEND;TZID=America/Halifax:20251118T200000
DTSTAMP:20260426T001738
CREATED:20251023T132909Z
LAST-MODIFIED:20251117T133508Z
UID:24214-1763447400-1763496000@dsah.ca
SUMMARY:Book Club - New!
DESCRIPTION:For ages 12+ who aren’t currently in OWLS. Join us and drop in MONTHLY for this casual and quieter group for individuals who enjoy reading or listening to stories.
URL:https://dsah.ca/event/book-club-new/
LOCATION:DSAH OFFICE @ the Hamilton Italian Centre\, 420 Crerar Drive\, Hamilton\, ON\, L9A 5K3\, Canada
CATEGORIES:18+ Programming & Club G.A.I.N.,5-18 Programming,Advocacy / Education / Fundraising
ATTACH;FMTTYPE=image/png:https://dsah.ca/wp-content/uploads/Book-Club.png
ORGANIZER;CN="DSAH":MAILTO:contactus@dsah.ca
END:VEVENT
BEGIN:VEVENT
DTSTART;TZID=America/Halifax:20251113T160000
DTEND;TZID=America/Halifax:20251113T190000
DTSTAMP:20260426T001738
CREATED:20251023T132135Z
LAST-MODIFIED:20251023T132136Z
UID:24204-1763049600-1763060400@dsah.ca
SUMMARY:OWLS
DESCRIPTION:www.dsah.ca/owls
URL:https://dsah.ca/event/owls-5/
LOCATION:ON
CATEGORIES:5-18 Programming,Advocacy / Education / Fundraising,Therapeutic
ATTACH;FMTTYPE=image/jpeg:https://dsah.ca/wp-content/uploads/LOGO-OWLS-2025-v2-.jpg
END:VEVENT
BEGIN:VEVENT
DTSTART;TZID=UTC:20251111T160000
DTEND;TZID=UTC:20251111T180000
DTSTAMP:20260426T001738
CREATED:20251013T160515Z
LAST-MODIFIED:20251013T161139Z
UID:24027-1762876800-1762884000@dsah.ca
SUMMARY:Owlets
DESCRIPTION:TUESDAYS OCTOBER 14- DECEMBER 2 \n\n\n\nAn early literacy group featuring songs\, signs and stories.  \n\n\n\nNew participants and siblings are welcome! If you haven’t attended before\, please contact us before attending. \n\n\n\nAges 0-8
URL:https://dsah.ca/event/owlets-5/
LOCATION:DSAH OFFICE @ the Hamilton Italian Centre\, 420 Crerar Drive\, Hamilton\, ON\, L9A 5K3\, Canada
CATEGORIES:0-4 Programming,0-8 Programming,Music,Therapeutic
ATTACH;FMTTYPE=image/jpeg:https://dsah.ca/wp-content/uploads/IMG_9621-scaled.jpeg
ORGANIZER;CN="DSAH":MAILTO:contactus@dsah.ca
END:VEVENT
BEGIN:VEVENT
DTSTART;TZID=America/Halifax:20251106T191500
DTEND;TZID=America/Halifax:20251106T210000
DTSTAMP:20260426T001738
CREATED:20251023T133804Z
LAST-MODIFIED:20251023T133805Z
UID:24232-1762456500-1762462800@dsah.ca
SUMMARY:Board of Directors Meeting
DESCRIPTION:
URL:https://dsah.ca/event/board-of-directors-meeting/
LOCATION:DSAH OFFICE @ the Hamilton Italian Centre\, 420 Crerar Drive\, Hamilton\, ON\, L9A 5K3\, Canada
CATEGORIES:Board Meeting
ATTACH;FMTTYPE=image/jpeg:https://dsah.ca/wp-content/uploads/IMG_3336-2-scaled.jpeg
ORGANIZER;CN="DSAH BOARD":MAILTO:contactus@dsah.ca
END:VEVENT
BEGIN:VEVENT
DTSTART;TZID=America/Halifax:20251106T080000
DTEND;TZID=America/Halifax:20251106T170000
DTSTAMP:20260426T001738
CREATED:20251023T132037Z
LAST-MODIFIED:20251023T132038Z
UID:24202-1762416000-1762448400@dsah.ca
SUMMARY:OWLS
DESCRIPTION:www.dsah.ca/owls
URL:https://dsah.ca/event/owls-4/
LOCATION:ON
CATEGORIES:5-18 Programming,Advocacy / Education / Fundraising,Therapeutic
ATTACH;FMTTYPE=image/jpeg:https://dsah.ca/wp-content/uploads/LOGO-OWLS-2025-v2-.jpg
END:VEVENT
BEGIN:VEVENT
DTSTART;TZID=UTC:20251104T160000
DTEND;TZID=UTC:20251104T180000
DTSTAMP:20260426T001738
CREATED:20251013T160432Z
LAST-MODIFIED:20251013T160433Z
UID:24025-1762272000-1762279200@dsah.ca
SUMMARY:Owlets
DESCRIPTION:TUESDAYS OCTOBER 14- DECEMBER 2 \n\n\n\nAn early literacy group featuring songs\, signs and stories.  \n\n\n\nNew participants and siblings are welcome! If you haven’t attended before\, please contact us before attending. \n\n\n\nAges 0-8
URL:https://dsah.ca/event/owlets-4/
LOCATION:DSAH OFFICE @ the Hamilton Italian Centre\, 420 Crerar Drive\, Hamilton\, ON\, L9A 5K3\, Canada
CATEGORIES:0-4 Programming,0-8 Programming,Music,Therapeutic
ATTACH;FMTTYPE=image/jpeg:https://dsah.ca/wp-content/uploads/IMG_9621-scaled.jpeg
ORGANIZER;CN="DSAH":MAILTO:contactus@dsah.ca
END:VEVENT
BEGIN:VEVENT
DTSTART;TZID=America/Halifax:20251030T160000
DTEND;TZID=America/Halifax:20251030T190000
DTSTAMP:20260426T001738
CREATED:20251023T131547Z
LAST-MODIFIED:20251023T131548Z
UID:24198-1761840000-1761850800@dsah.ca
SUMMARY:OWLS
DESCRIPTION:www.dsah.ca/owls
URL:https://dsah.ca/event/owls-3/
LOCATION:ON
CATEGORIES:5-18 Programming,Advocacy / Education / Fundraising,Therapeutic
ATTACH;FMTTYPE=image/jpeg:https://dsah.ca/wp-content/uploads/LOGO-OWLS-2025-v2-.jpg
END:VEVENT
BEGIN:VEVENT
DTSTART;TZID=UTC:20251028T160000
DTEND;TZID=UTC:20251028T180000
DTSTAMP:20260426T001738
CREATED:20251013T160006Z
LAST-MODIFIED:20251013T160008Z
UID:24023-1761667200-1761674400@dsah.ca
SUMMARY:Owlets
DESCRIPTION:TUESDAYS OCTOBER 14- DECEMBER 2 \n\n\n\nAn early literacy group featuring songs\, signs and stories.  \n\n\n\nNew participants and siblings are welcome! If you haven’t attended before\, please contact us before attending. \n\n\n\nAges 0-8
URL:https://dsah.ca/event/owlets-3/
LOCATION:DSAH OFFICE @ the Hamilton Italian Centre\, 420 Crerar Drive\, Hamilton\, ON\, L9A 5K3\, Canada
CATEGORIES:0-4 Programming,0-8 Programming,Music,Therapeutic
ATTACH;FMTTYPE=image/jpeg:https://dsah.ca/wp-content/uploads/IMG_9621-scaled.jpeg
ORGANIZER;CN="DSAH":MAILTO:contactus@dsah.ca
END:VEVENT
BEGIN:VEVENT
DTSTART;TZID=America/Halifax:20251023T160000
DTEND;TZID=America/Halifax:20251023T190000
DTSTAMP:20260426T001738
CREATED:20251023T131439Z
LAST-MODIFIED:20251023T131952Z
UID:24193-1761235200-1761246000@dsah.ca
SUMMARY:OWLS
DESCRIPTION:www.dsah.ca/owls
URL:https://dsah.ca/event/owls-2/
LOCATION:ON
CATEGORIES:5-18 Programming,Advocacy / Education / Fundraising,Therapeutic
ATTACH;FMTTYPE=image/jpeg:https://dsah.ca/wp-content/uploads/LOGO-OWLS-2025-v2-.jpg
END:VEVENT
BEGIN:VEVENT
DTSTART;TZID=UTC:20251021T160000
DTEND;TZID=UTC:20251021T180000
DTSTAMP:20260426T001738
CREATED:20251013T155853Z
LAST-MODIFIED:20251013T155854Z
UID:24021-1761062400-1761069600@dsah.ca
SUMMARY:Owlets
DESCRIPTION:TUESDAYS OCTOBER 14- DECEMBER 2 \n\n\n\nAn early literacy group featuring songs\, signs and stories.  \n\n\n\nNew participants and siblings are welcome! If you haven’t attended before\, please contact us before attending. \n\n\n\nAges 0-8
URL:https://dsah.ca/event/owlets-2/
LOCATION:DSAH OFFICE @ the Hamilton Italian Centre\, 420 Crerar Drive\, Hamilton\, ON\, L9A 5K3\, Canada
CATEGORIES:0-4 Programming,0-8 Programming,Music,Therapeutic
ATTACH;FMTTYPE=image/jpeg:https://dsah.ca/wp-content/uploads/IMG_9621-scaled.jpeg
ORGANIZER;CN="DSAH":MAILTO:contactus@dsah.ca
END:VEVENT
BEGIN:VEVENT
DTSTART;TZID=UTC:20251014T160000
DTEND;TZID=UTC:20251014T180000
DTSTAMP:20260426T001738
CREATED:20251013T155729Z
LAST-MODIFIED:20251013T155731Z
UID:24017-1760457600-1760464800@dsah.ca
SUMMARY:Owlets
DESCRIPTION:TUESDAYS OCTOBER 14- DECEMBER 2 \n\n\n\nAn early literacy group featuring songs\, signs and stories.  \n\n\n\nNew participants and siblings are welcome! If you haven’t attended before\, please contact us before attending. \n\n\n\nAges 0-8
URL:https://dsah.ca/event/owlets/
LOCATION:DSAH OFFICE @ the Hamilton Italian Centre\, 420 Crerar Drive\, Hamilton\, ON\, L9A 5K3\, Canada
CATEGORIES:0-4 Programming,0-8 Programming,Music,Therapeutic
ATTACH;FMTTYPE=image/jpeg:https://dsah.ca/wp-content/uploads/IMG_9621-scaled.jpeg
ORGANIZER;CN="DSAH":MAILTO:contactus@dsah.ca
END:VEVENT
BEGIN:VEVENT
DTSTART;TZID=UTC:20251011T150000
DTEND;TZID=UTC:20251011T200000
DTSTAMP:20260426T001738
CREATED:20250822T144209Z
LAST-MODIFIED:20251007T233839Z
UID:23895-1760194800-1760212800@dsah.ca
SUMMARY:Ticats Day!
DESCRIPTION:TICKETS ARE NOW SOLD OUT. Enjoy the game! \n\n\n\n Join DSAH family and friends on thanksgiving weekend for an afternoon of football fun versus the Calgary Stampeders. Seats are in Gold Section 113\, rows 22\, 23 and 24. Stay after the game for on-field fun and a family movie. \n\n\n\nGame time is 3 p.m. \n\n\n\n\n\n\n\n\n\n\n\n\n\n\n\nTICKETS ARE SOLD OUT
URL:https://dsah.ca/event/ticats-day/
LOCATION:Hamilton Stadium\, 64 Melrose Ave N\,\, Hamilton\,\, ON\, L8L 0C3\, Canada
CATEGORIES:0-4 Programming,0-8 Programming,18+ Programming & Club G.A.I.N.,5-18 Programming,Community Partner Event,Social,Special Event
ATTACH;FMTTYPE=image/png:https://dsah.ca/wp-content/uploads/Hamilton_Tiger-Cats_logo.svg.png
ORGANIZER;CN="DSAH":MAILTO:contactus@dsah.ca
END:VEVENT
BEGIN:VEVENT
DTSTART;TZID=UTC:20250921T090000
DTEND;TZID=UTC:20250921T120000
DTSTAMP:20260426T001738
CREATED:20241221T162148Z
LAST-MODIFIED:20250910T152639Z
UID:23273-1758445200-1758456000@dsah.ca
SUMMARY:2025 Hamilton Walk for Down Syndrome
DESCRIPTION:It is our biggest event of the year! The Hamilton Walk for Down Syndrome is a free community awareness and fundraising event benefitting The Down Syndrome Association of Hamilton. Our event is open to the public\, rain or shine! \n\n\n\nThe Hamilton Walk for Down Syndrome is sponsored by Global Fuels and LiUNA! \n\n\n\nStart a Team here:https://www.canadahelps.org/en/charities/the-down-syndrome-association-of-hamilton/p2p/walk2025/
URL:https://dsah.ca/event/2025-hamilton-walk-for-down-syndrome/
LOCATION:TB McQuesten Park\, 1199 Upper Wentworth St\, Hamilton\, ON\, L8W 2Y7
CATEGORIES:Advocacy / Education / Fundraising,Community Partner Event,Special Event,Volunteers
ATTACH;FMTTYPE=image/png:https://dsah.ca/wp-content/uploads/FB-Banner-with-join-us-date-website-1.png
ORGANIZER;CN="DSAH":MAILTO:contactus@dsah.ca
END:VEVENT
BEGIN:VEVENT
DTSTART;TZID=UTC:20250920T100000
DTEND;TZID=UTC:20250920T150000
DTSTAMP:20260426T001738
CREATED:20250909T184307Z
LAST-MODIFIED:20250909T184309Z
UID:23958-1758362400-1758380400@dsah.ca
SUMMARY:T-Shirt Pickup & Office Hours
DESCRIPTION:Teams and Volunteers can pick up their pre-ordered Walk T-shirts\, pick up or purchase Gift of Flight Tickets\, drop off cash and cheque donations.
URL:https://dsah.ca/event/t-shirt-pickup-office-hours/
LOCATION:DSAH OFFICE @ the Hamilton Italian Centre\, 420 Crerar Drive\, Hamilton\, ON\, L9A 5K3\, Canada
CATEGORIES:Advocacy / Education / Fundraising,Volunteers
ATTACH;FMTTYPE=image/png:https://dsah.ca/wp-content/uploads/walk-shirt-design2.png
ORGANIZER;CN="DSAH":MAILTO:contactus@dsah.ca
END:VEVENT
BEGIN:VEVENT
DTSTART;TZID=UTC:20250917T180000
DTEND;TZID=UTC:20250917T210000
DTSTAMP:20260426T001738
CREATED:20250909T183755Z
LAST-MODIFIED:20250909T183757Z
UID:23954-1758132000-1758142800@dsah.ca
SUMMARY:Pre-Walk Office Hours
DESCRIPTION:Our office is open to accept cash\, cheque and raffle donations in preparation for the Hamilton Walk for Down syndrome on Sunday. \n\n\n\nYou can also come to purchase a $20 Ticket for your chance to win the Gift of Flight. Only 500 tickets will be sold! \n\n\n\nLimited quantities of last year’s t-shirts will also be available.
URL:https://dsah.ca/event/pre-walk-office-hours/
LOCATION:DSAH OFFICE @ the Hamilton Italian Centre\, 420 Crerar Drive\, Hamilton\, ON\, L9A 5K3\, Canada
CATEGORIES:Advocacy / Education / Fundraising,Volunteers
ATTACH;FMTTYPE=image/jpeg:https://dsah.ca/wp-content/uploads/1-1.jpg
END:VEVENT
BEGIN:VEVENT
DTSTART;TZID=UTC:20250826T080000
DTEND;TZID=UTC:20250826T170000
DTSTAMP:20260426T001738
CREATED:20250624T203812Z
LAST-MODIFIED:20250624T203814Z
UID:23783-1756195200-1756227600@dsah.ca
SUMMARY:Summer Drop In
DESCRIPTION:This program is for DSAH members\, individuals with Down syndrome of all ages\, siblings and their caregiver(s). \n\n\n\nJoin us Tuesday mornings starting at 9 a.m. this summer at our program space in the Hamilton Italian Centre. Planned literacy activities and games as well as free play and open gym at 10 a.m. \n\n\n\nFree for Individuals with Down Syndrome and their siblings and caregivers
URL:https://dsah.ca/event/summer-drop-in-7/
LOCATION:DSAH OFFICE @ the Hamilton Italian Centre\, 420 Crerar Drive\, Hamilton\, ON\, L9A 5K3\, Canada
CATEGORIES:0-8 Programming,5-18 Programming,Volunteers
ATTACH;FMTTYPE=image/png:https://dsah.ca/wp-content/uploads/Summer-Drop-in-flyer-v1.png
ORGANIZER;CN="DSAH":MAILTO:contactus@dsah.ca
END:VEVENT
BEGIN:VEVENT
DTSTART;TZID=UTC:20250819T090000
DTEND;TZID=UTC:20250819T120000
DTSTAMP:20260426T001738
CREATED:20250624T203651Z
LAST-MODIFIED:20250624T203653Z
UID:23781-1755594000-1755604800@dsah.ca
SUMMARY:Summer Drop In
DESCRIPTION:This program is for DSAH members\, individuals with Down syndrome of all ages\, siblings and their caregiver(s). \n\n\n\nJoin us Tuesday mornings starting at 9 a.m. this summer at our program space in the Hamilton Italian Centre. Planned literacy activities and games as well as free play and open gym at 10 a.m. \n\n\n\nFree for Individuals with Down Syndrome and their siblings and caregivers
URL:https://dsah.ca/event/summer-drop-in-6/
LOCATION:DSAH OFFICE @ the Hamilton Italian Centre\, 420 Crerar Drive\, Hamilton\, ON\, L9A 5K3\, Canada
CATEGORIES:0-8 Programming,5-18 Programming,Volunteers
ATTACH;FMTTYPE=image/png:https://dsah.ca/wp-content/uploads/Summer-Drop-in-flyer-v1.png
ORGANIZER;CN="DSAH":MAILTO:contactus@dsah.ca
END:VEVENT
BEGIN:VEVENT
DTSTART;TZID=UTC:20250812T090000
DTEND;TZID=UTC:20250812T120000
DTSTAMP:20260426T001738
CREATED:20250624T203537Z
LAST-MODIFIED:20250624T203538Z
UID:23779-1754989200-1755000000@dsah.ca
SUMMARY:Summer Drop In
DESCRIPTION:This program is for DSAH members\, individuals with Down syndrome of all ages\, siblings and their caregiver(s). \n\n\n\nJoin us Tuesday mornings starting at 9 a.m. this summer at our program space in the Hamilton Italian Centre. Planned literacy activities and games as well as free play and open gym at 10 a.m. \n\n\n\nFree for Individuals with Down Syndrome and their siblings and caregivers
URL:https://dsah.ca/event/summer-drop-in-5/
LOCATION:DSAH OFFICE @ the Hamilton Italian Centre\, 420 Crerar Drive\, Hamilton\, ON\, L9A 5K3\, Canada
CATEGORIES:0-8 Programming,5-18 Programming,Volunteers
ATTACH;FMTTYPE=image/png:https://dsah.ca/wp-content/uploads/Summer-Drop-in-flyer-v1.png
ORGANIZER;CN="DSAH":MAILTO:contactus@dsah.ca
END:VEVENT
BEGIN:VEVENT
DTSTART;TZID=UTC:20250729T090000
DTEND;TZID=UTC:20250729T120000
DTSTAMP:20260426T001738
CREATED:20250624T203420Z
LAST-MODIFIED:20250624T205446Z
UID:23777-1753779600-1753790400@dsah.ca
SUMMARY:Summer Drop In
DESCRIPTION:This program is for DSAH members\, individuals with Down syndrome of all ages\, siblings and their caregiver(s). \n\n\n\nJoin us Tuesday mornings starting at 9 a.m. this summer at our program space in the Hamilton Italian Centre. Planned literacy activities and games as well as free play and open gym at 10 a.m. \n\n\n\nFree for Individuals with Down Syndrome and their siblings and caregivers
URL:https://dsah.ca/event/summer-drop-in-4/
LOCATION:DSAH OFFICE @ the Hamilton Italian Centre\, 420 Crerar Drive\, Hamilton\, ON\, L9A 5K3\, Canada
CATEGORIES:0-8 Programming,5-18 Programming,Volunteers
ATTACH;FMTTYPE=image/png:https://dsah.ca/wp-content/uploads/Summer-Drop-in-flyer-v1.png
ORGANIZER;CN="DSAH":MAILTO:contactus@dsah.ca
END:VEVENT
BEGIN:VEVENT
DTSTART;TZID=UTC:20250722T090000
DTEND;TZID=UTC:20250722T120000
DTSTAMP:20260426T001738
CREATED:20250624T202004Z
LAST-MODIFIED:20250624T202006Z
UID:23775-1753174800-1753185600@dsah.ca
SUMMARY:Summer Drop In
DESCRIPTION:This program is for DSAH members\, individuals with Down syndrome of all ages\, siblings and their caregiver(s).  \n\n\n\nJoin us Tuesday mornings starting at 9 a.m. this summer at our program space in the Hamilton Italian Centre. Planned literacy activities and games as well as free play and open gym at 10 a.m.
URL:https://dsah.ca/event/summer-drop-in-3/
LOCATION:DSAH OFFICE @ the Hamilton Italian Centre\, 420 Crerar Drive\, Hamilton\, ON\, L9A 5K3\, Canada
CATEGORIES:0-8 Programming,5-18 Programming,Volunteers
ATTACH;FMTTYPE=image/png:https://dsah.ca/wp-content/uploads/Summer-Drop-in-flyer-v1.png
END:VEVENT
BEGIN:VEVENT
DTSTART;TZID=UTC:20250715T090000
DTEND;TZID=UTC:20250715T120000
DTSTAMP:20260426T001738
CREATED:20250624T201843Z
LAST-MODIFIED:20250624T201845Z
UID:23773-1752570000-1752580800@dsah.ca
SUMMARY:Summer Drop In
DESCRIPTION:This program is for DSAH members\, individuals with Down syndrome of all ages\, siblings and their caregiver(s).  \n\n\n\nJoin us Tuesday mornings starting at 9 a.m. this summer at our program space in the Hamilton Italian Centre. Planned literacy activities and games as well as free play and open gym at 10 a.m.
URL:https://dsah.ca/event/summer-drop-in-2/
LOCATION:DSAH OFFICE @ the Hamilton Italian Centre\, 420 Crerar Drive\, Hamilton\, ON\, L9A 5K3\, Canada
CATEGORIES:0-8 Programming,5-18 Programming,Volunteers
ATTACH;FMTTYPE=image/png:https://dsah.ca/wp-content/uploads/Summer-Drop-in-flyer-v1.png
END:VEVENT
BEGIN:VEVENT
DTSTART;TZID=UTC:20250708T090000
DTEND;TZID=UTC:20250708T120000
DTSTAMP:20260426T001738
CREATED:20250624T201526Z
LAST-MODIFIED:20250624T201639Z
UID:23768-1751965200-1751976000@dsah.ca
SUMMARY:Summer Drop In
DESCRIPTION:This program is for DSAH members\, individuals with Down syndrome of all ages\, siblings and their caregiver(s).  \n\n\n\nJoin us Tuesday mornings starting at 9 a.m. this summer at our program space in the Hamilton Italian Centre. Planned literacy activities and games as well as free play and open gym at 10 a.m.
URL:https://dsah.ca/event/summer-drop-in/
LOCATION:DSAH OFFICE @ the Hamilton Italian Centre\, 420 Crerar Drive\, Hamilton\, ON\, L9A 5K3\, Canada
CATEGORIES:0-8 Programming,5-18 Programming,Volunteers
ATTACH;FMTTYPE=image/png:https://dsah.ca/wp-content/uploads/Summer-Drop-in-flyer-v1.png
ORGANIZER;CN="DSAH":MAILTO:contactus@dsah.ca
END:VEVENT
BEGIN:VEVENT
DTSTART;TZID=UTC:20250627T180000
DTEND;TZID=UTC:20250627T210000
DTSTAMP:20260426T001738
CREATED:20250624T204211Z
LAST-MODIFIED:20250624T204213Z
UID:23785-1751047200-1751058000@dsah.ca
SUMMARY:Club G.A.I.N.
DESCRIPTION:Club G.A.I.N. is hosting our annual Canada Day theme dance this Friday\, June 27/2024 at Delta United Church Friendship Hall. Wear red and white for our photo booth if you can. Enjoy themed music\, our prize table and Maple Leaf cookies served from our snack bar. At break we have our monthly Snack Bar draw\, will sing O Canada and everyone gets a free Canada Day cupcake. We also have free flags to send home with every member for Canada Day July 1. Admission: $6 (includes 2 snack tickets). 50 cents for additional snacks. Doors open: 6 p.m. Dance: 6:30 to 9:30 p.m. Passport receipts available
URL:https://dsah.ca/event/club-g-a-i-n-2/
LOCATION:Delta United Church\, 47 Ottawa St. S.\, Hamilton\, ONTARIO\, L8K 2C9\, Canada
CATEGORIES:18+ Programming & Club G.A.I.N.,Social
ATTACH;FMTTYPE=image/jpeg:https://dsah.ca/wp-content/uploads/Canada-Day-Dance-CG.jpeg
END:VEVENT
BEGIN:VEVENT
DTSTART;TZID=UTC:20250625T190000
DTEND;TZID=UTC:20250625T203000
DTSTAMP:20260426T001738
CREATED:20250624T200525Z
LAST-MODIFIED:20250624T204638Z
UID:23764-1750878000-1750883400@dsah.ca
SUMMARY:Dad's Night Out @ Shawn & Ed's
DESCRIPTION:Join other DSAH Dads Team at Shawn and Ed’s for Trivia Night.
URL:https://dsah.ca/event/dads-night-out-shawn-eds/
LOCATION:Shawn and Ed Brewery\, 65 Hatt Street\, Dundas\, ON\, L9H 0C1\, Canada
CATEGORIES:Caregivers,Social
ATTACH;FMTTYPE=image/png:https://dsah.ca/wp-content/uploads/Screenshot-2025-06-24-at-12.43.15 PM.png
ORGANIZER;CN="DSAH Social Committee":MAILTO:david.vandepol@gmail.com
END:VEVENT
BEGIN:VEVENT
DTSTART;TZID=UTC:20250618T180000
DTEND;TZID=UTC:20250618T193000
DTSTAMP:20260426T001738
CREATED:20250508T154052Z
LAST-MODIFIED:20250521T001214Z
UID:23730-1750269600-1750275000@dsah.ca
SUMMARY:2025 Annual General Meeting
DESCRIPTION:Join us for pizza and learn more about the upcoming WALK\, programs and DSAH’s achievements over the past year. All members and the general public are invited to participate. Bring the whole family! Activities for kids available. RSVP below.
URL:https://dsah.ca/event/2025-annual-general-meeting/
LOCATION:DSAH OFFICE @ the Hamilton Italian Centre\, 420 Crerar Drive\, Hamilton\, ON\, L9A 5K3\, Canada
CATEGORIES:Advocacy / Education / Fundraising,Board Meeting,Caregivers,Special Event
ATTACH;FMTTYPE=image/jpeg:https://dsah.ca/wp-content/uploads/IMG_3336-2-scaled.jpeg
ORGANIZER;CN="DSAH BOARD":MAILTO:contactus@dsah.ca
END:VEVENT
BEGIN:VEVENT
DTSTART;TZID=UTC:20250612T161500
DTEND;TZID=UTC:20250612T191500
DTSTAMP:20260426T001738
CREATED:20250215T184936Z
LAST-MODIFIED:20250215T184939Z
UID:23576-1749744900-1749755700@dsah.ca
SUMMARY:OWLS Spring 2025 - Week 10
DESCRIPTION:THIS IS THE LAST DATE FOR SPRING SESSION. \n\n\n\nOWLS is Opportunities with Literacy and Speech an essential skill building program for individuals with Down syndrome of all ages.  \n\n\n\nRegistered Program for Members. Contact us to get on the waitlist.
URL:https://dsah.ca/event/owls-spring-2025-week-10/
LOCATION:DSAH OFFICE @ the Hamilton Italian Centre\, 420 Crerar Drive\, Hamilton\, ON\, L9A 5K3\, Canada
CATEGORIES:0-4 Programming,18+ Programming & Club G.A.I.N.,5-18 Programming,Advocacy / Education / Fundraising
ORGANIZER;CN="DSAH":MAILTO:contactus@dsah.ca
END:VEVENT
END:VCALENDAR