BEGIN:VCALENDAR
VERSION:2.0
PRODID:-//Down Syndrome Association of Hamilton - ECPv6.15.20//NONSGML v1.0//EN
CALSCALE:GREGORIAN
METHOD:PUBLISH
X-ORIGINAL-URL:https://dsah.ca
X-WR-CALDESC:Events for Down Syndrome Association of Hamilton
REFRESH-INTERVAL;VALUE=DURATION:PT1H
X-Robots-Tag:noindex
X-PUBLISHED-TTL:PT1H
BEGIN:VTIMEZONE
TZID:UTC
BEGIN:STANDARD
TZOFFSETFROM:+0000
TZOFFSETTO:+0000
TZNAME:UTC
DTSTART:20240101T000000
END:STANDARD
END:VTIMEZONE
BEGIN:VEVENT
DTSTART;TZID=UTC:20250627T180000
DTEND;TZID=UTC:20250627T210000
DTSTAMP:20260425T222246
CREATED:20250624T204211Z
LAST-MODIFIED:20250624T204213Z
UID:23785-1751047200-1751058000@dsah.ca
SUMMARY:Club G.A.I.N.
DESCRIPTION:Club G.A.I.N. is hosting our annual Canada Day theme dance this Friday\, June 27/2024 at Delta United Church Friendship Hall. Wear red and white for our photo booth if you can. Enjoy themed music\, our prize table and Maple Leaf cookies served from our snack bar. At break we have our monthly Snack Bar draw\, will sing O Canada and everyone gets a free Canada Day cupcake. We also have free flags to send home with every member for Canada Day July 1. Admission: $6 (includes 2 snack tickets). 50 cents for additional snacks. Doors open: 6 p.m. Dance: 6:30 to 9:30 p.m. Passport receipts available
URL:https://dsah.ca/event/club-g-a-i-n-2/
LOCATION:Delta United Church\, 47 Ottawa St. S.\, Hamilton\, ONTARIO\, L8K 2C9\, Canada
CATEGORIES:18+ Programming & Club G.A.I.N.,Social
ATTACH;FMTTYPE=image/jpeg:https://dsah.ca/wp-content/uploads/Canada-Day-Dance-CG.jpeg
END:VEVENT
BEGIN:VEVENT
DTSTART;TZID=UTC:20250625T190000
DTEND;TZID=UTC:20250625T203000
DTSTAMP:20260425T222246
CREATED:20250624T200525Z
LAST-MODIFIED:20250624T204638Z
UID:23764-1750878000-1750883400@dsah.ca
SUMMARY:Dad's Night Out @ Shawn & Ed's
DESCRIPTION:Join other DSAH Dads Team at Shawn and Ed’s for Trivia Night.
URL:https://dsah.ca/event/dads-night-out-shawn-eds/
LOCATION:Shawn and Ed Brewery\, 65 Hatt Street\, Dundas\, ON\, L9H 0C1\, Canada
CATEGORIES:Caregivers,Social
ATTACH;FMTTYPE=image/png:https://dsah.ca/wp-content/uploads/Screenshot-2025-06-24-at-12.43.15 PM.png
ORGANIZER;CN="DSAH Social Committee":MAILTO:david.vandepol@gmail.com
END:VEVENT
BEGIN:VEVENT
DTSTART;TZID=UTC:20250618T180000
DTEND;TZID=UTC:20250618T193000
DTSTAMP:20260425T222246
CREATED:20250508T154052Z
LAST-MODIFIED:20250521T001214Z
UID:23730-1750269600-1750275000@dsah.ca
SUMMARY:2025 Annual General Meeting
DESCRIPTION:Join us for pizza and learn more about the upcoming WALK\, programs and DSAH’s achievements over the past year. All members and the general public are invited to participate. Bring the whole family! Activities for kids available. RSVP below.
URL:https://dsah.ca/event/2025-annual-general-meeting/
LOCATION:DSAH OFFICE @ the Hamilton Italian Centre\, 420 Crerar Drive\, Hamilton\, ON\, L9A 5K3\, Canada
CATEGORIES:Advocacy / Education / Fundraising,Board Meeting,Caregivers,Special Event
ATTACH;FMTTYPE=image/jpeg:https://dsah.ca/wp-content/uploads/IMG_3336-2-scaled.jpeg
ORGANIZER;CN="DSAH BOARD":MAILTO:contactus@dsah.ca
END:VEVENT
BEGIN:VEVENT
DTSTART;TZID=UTC:20250612T161500
DTEND;TZID=UTC:20250612T191500
DTSTAMP:20260425T222246
CREATED:20250215T184936Z
LAST-MODIFIED:20250215T184939Z
UID:23576-1749744900-1749755700@dsah.ca
SUMMARY:OWLS Spring 2025 - Week 10
DESCRIPTION:THIS IS THE LAST DATE FOR SPRING SESSION. \n\n\n\nOWLS is Opportunities with Literacy and Speech an essential skill building program for individuals with Down syndrome of all ages.  \n\n\n\nRegistered Program for Members. Contact us to get on the waitlist.
URL:https://dsah.ca/event/owls-spring-2025-week-10/
LOCATION:DSAH OFFICE @ the Hamilton Italian Centre\, 420 Crerar Drive\, Hamilton\, ON\, L9A 5K3\, Canada
CATEGORIES:0-4 Programming,18+ Programming & Club G.A.I.N.,5-18 Programming,Advocacy / Education / Fundraising
ORGANIZER;CN="DSAH":MAILTO:contactus@dsah.ca
END:VEVENT
BEGIN:VEVENT
DTSTART;TZID=UTC:20250610T160000
DTEND;TZID=UTC:20250610T170000
DTSTAMP:20260425T222246
CREATED:20250216T000710Z
LAST-MODIFIED:20250216T000713Z
UID:23606-1749571200-1749574800@dsah.ca
SUMMARY:Owlets Spring 2025 - Week 10
DESCRIPTION:This is the LAST day of the Spring session. \n\n\n\nLed by DSAH staff\, volunteers and Blossom Music\, our youngest OWLS ages 0-8\, explore early literacy concepts through movement\, music\, name recognition and first sight word activities. Speech and Language consultations available. Caregivers stay to supervise their child.
URL:https://dsah.ca/event/owlets-spring-2025-week-10/
LOCATION:DSAH OFFICE @ the Hamilton Italian Centre\, 420 Crerar Drive\, Hamilton\, ON\, L9A 5K3\, Canada
CATEGORIES:0-8 Programming,Advocacy / Education / Fundraising,Caregivers,Music,Social,Therapeutic
ORGANIZER;CN="DSAH":MAILTO:contactus@dsah.ca
END:VEVENT
BEGIN:VEVENT
DTSTART;TZID=UTC:20250605T161500
DTEND;TZID=UTC:20250605T191500
DTSTAMP:20260425T222246
CREATED:20250215T184801Z
LAST-MODIFIED:20250215T184803Z
UID:23574-1749140100-1749150900@dsah.ca
SUMMARY:OWLS Spring 2025 - Week 9
DESCRIPTION:OWLS is Opportunities with Literacy and Speech an essential skill building program for individuals with Down syndrome of all ages.  \n\n\n\nRegistered Program for Members. Contact us to get on the waitlist.
URL:https://dsah.ca/event/owls-spring-2025-week-9/
LOCATION:DSAH OFFICE @ the Hamilton Italian Centre\, 420 Crerar Drive\, Hamilton\, ON\, L9A 5K3\, Canada
CATEGORIES:0-4 Programming,18+ Programming & Club G.A.I.N.,5-18 Programming,Advocacy / Education / Fundraising
ORGANIZER;CN="DSAH":MAILTO:contactus@dsah.ca
END:VEVENT
BEGIN:VEVENT
DTSTART;TZID=UTC:20250603T160000
DTEND;TZID=UTC:20250603T170000
DTSTAMP:20260425T222246
CREATED:20250216T000536Z
LAST-MODIFIED:20250216T000539Z
UID:23604-1748966400-1748970000@dsah.ca
SUMMARY:Owlets Spring 2025 - Week 9
DESCRIPTION:Led by DSAH staff\, volunteers and Blossom Music\, our youngest OWLS ages 0-8\, explore early literacy concepts through movement\, music\, name recognition and first sight word activities. Speech and Language consultations available. Caregivers stay to supervise their child.
URL:https://dsah.ca/event/owlets-spring-2025-week-9/
LOCATION:DSAH OFFICE @ the Hamilton Italian Centre\, 420 Crerar Drive\, Hamilton\, ON\, L9A 5K3\, Canada
CATEGORIES:0-8 Programming,Advocacy / Education / Fundraising,Caregivers,Music,Social,Therapeutic
ORGANIZER;CN="DSAH":MAILTO:contactus@dsah.ca
END:VEVENT
BEGIN:VEVENT
DTSTART;TZID=UTC:20250529T161500
DTEND;TZID=UTC:20250529T191500
DTSTAMP:20260425T222246
CREATED:20250215T184039Z
LAST-MODIFIED:20250215T184210Z
UID:23570-1748535300-1748546100@dsah.ca
SUMMARY:OWLS Spring 2025 - Week 8
DESCRIPTION:OWLS is Opportunities with Literacy and Speech an essential skill building program for individuals with Down syndrome of all ages.  \n\n\n\nRegistered Program for Members. Contact us to get on the waitlist.
URL:https://dsah.ca/event/owls-spring-2025-week-8/
LOCATION:DSAH OFFICE @ the Hamilton Italian Centre\, 420 Crerar Drive\, Hamilton\, ON\, L9A 5K3\, Canada
CATEGORIES:0-4 Programming,18+ Programming & Club G.A.I.N.,5-18 Programming,Advocacy / Education / Fundraising
ORGANIZER;CN="DSAH":MAILTO:contactus@dsah.ca
END:VEVENT
BEGIN:VEVENT
DTSTART;TZID=UTC:20250528T180000
DTEND;TZID=UTC:20250528T193000
DTSTAMP:20260425T222246
CREATED:20250527T181719Z
LAST-MODIFIED:20250527T181721Z
UID:23745-1748455200-1748460600@dsah.ca
SUMMARY:Caregiver Support Social
DESCRIPTION:Join other parents and caregivers and openly discuss what’s going on in your world\, with your child(ren) and challenges with parenting and caregiving. \n\n\n\nTogether\, we can raise each other up\, offer advice or just listen. \n\n\n\nOr just browse our free resources! \n\n\n\nCoffee/tea and refreshments will be available. \n\n\n\nHope to see you there!
URL:https://dsah.ca/event/caregiver-support-social/
LOCATION:DSAH OFFICE @ the Hamilton Italian Centre\, 420 Crerar Drive\, Hamilton\, ON\, L9A 5K3\, Canada
CATEGORIES:Caregivers,Social,Therapeutic
ATTACH;FMTTYPE=image/png:https://dsah.ca/wp-content/uploads/Caregiver-Support-Social-May-28-e1748355416980.png
ORGANIZER;CN="DSAH Social Committee":MAILTO:david.vandepol@gmail.com
END:VEVENT
BEGIN:VEVENT
DTSTART;TZID=UTC:20250527T160000
DTEND;TZID=UTC:20250527T170000
DTSTAMP:20260425T222246
CREATED:20250216T000414Z
LAST-MODIFIED:20250216T000417Z
UID:23602-1748361600-1748365200@dsah.ca
SUMMARY:Owlets Spring 2025 - Week 8
DESCRIPTION:Led by DSAH staff\, volunteers and Blossom Music\, our youngest OWLS ages 0-8\, explore early literacy concepts through movement\, music\, name recognition and first sight word activities. Speech and Language consultations available. Caregivers stay to supervise their child.
URL:https://dsah.ca/event/owlets-spring-2025-week-8/
LOCATION:DSAH OFFICE @ the Hamilton Italian Centre\, 420 Crerar Drive\, Hamilton\, ON\, L9A 5K3\, Canada
CATEGORIES:0-8 Programming,Advocacy / Education / Fundraising,Caregivers,Music,Therapeutic
ORGANIZER;CN="DSAH":MAILTO:contactus@dsah.ca
END:VEVENT
BEGIN:VEVENT
DTSTART;TZID=UTC:20250522T161500
DTEND;TZID=UTC:20250522T191500
DTSTAMP:20260425T222246
CREATED:20250215T183928Z
LAST-MODIFIED:20250215T183930Z
UID:23568-1747930500-1747941300@dsah.ca
SUMMARY:OWLS Spring 2025 - Week 7
DESCRIPTION:OWLS is Opportunities with Literacy and Speech an essential skill building program for individuals with Down syndrome of all ages.  \n\n\n\nRegistered Program for Members. Contact us to get on the waitlist.
URL:https://dsah.ca/event/owls-spring-2025-week-7/
LOCATION:DSAH OFFICE @ the Hamilton Italian Centre\, 420 Crerar Drive\, Hamilton\, ON\, L9A 5K3\, Canada
CATEGORIES:0-4 Programming,18+ Programming & Club G.A.I.N.,5-18 Programming,Advocacy / Education / Fundraising
ORGANIZER;CN="DSAH":MAILTO:contactus@dsah.ca
END:VEVENT
BEGIN:VEVENT
DTSTART;TZID=UTC:20250520T160000
DTEND;TZID=UTC:20250520T170000
DTSTAMP:20260425T222246
CREATED:20250215T194002Z
LAST-MODIFIED:20250215T194004Z
UID:23596-1747756800-1747760400@dsah.ca
SUMMARY:Owlets Spring 2025 - Week 7
DESCRIPTION:OWLETS AGES 0-8 TUESDAYS  \n\n\n\nLed by DSAH staff\, volunteers and Blossom Music\, our youngest OWLS ages 0-8\, explore early literacy concepts through movement\, music\, name recognition and first sight word activities. Speech and Language consultations available. Caregivers stay to supervise their child.
URL:https://dsah.ca/event/owlets-spring-2025-week-7/
LOCATION:DSAH OFFICE @ the Hamilton Italian Centre\, 420 Crerar Drive\, Hamilton\, ON\, L9A 5K3\, Canada
CATEGORIES:0-8 Programming,Advocacy / Education / Fundraising,Caregivers,Social
ATTACH;FMTTYPE=image/jpeg:https://dsah.ca/wp-content/uploads/OWLS-fall-2024-25.jpg
ORGANIZER;CN="DSAH":MAILTO:contactus@dsah.ca
END:VEVENT
BEGIN:VEVENT
DTSTART;TZID=UTC:20250515T161500
DTEND;TZID=UTC:20250515T191500
DTSTAMP:20260425T222246
CREATED:20250215T183820Z
LAST-MODIFIED:20250215T183822Z
UID:23566-1747325700-1747336500@dsah.ca
SUMMARY:OWLS Spring 2025 - Week 6
DESCRIPTION:OWLS is Opportunities with Literacy and Speech an essential skill building program for individuals with Down syndrome of all ages.  \n\n\n\nRegistered Program for Members. Contact us to get on the waitlist.
URL:https://dsah.ca/event/owls-spring-2025-week-6/
LOCATION:DSAH OFFICE @ the Hamilton Italian Centre\, 420 Crerar Drive\, Hamilton\, ON\, L9A 5K3\, Canada
CATEGORIES:0-4 Programming,18+ Programming & Club G.A.I.N.,5-18 Programming,Advocacy / Education / Fundraising
ORGANIZER;CN="DSAH":MAILTO:contactus@dsah.ca
END:VEVENT
BEGIN:VEVENT
DTSTART;TZID=UTC:20250513T160000
DTEND;TZID=UTC:20250513T170000
DTSTAMP:20260425T222246
CREATED:20250215T193726Z
LAST-MODIFIED:20250215T193727Z
UID:23594-1747152000-1747155600@dsah.ca
SUMMARY:Owlets Spring 2025 - Week 6
DESCRIPTION:OWLETS AGES 0-8 TUESDAYS  \n\n\n\nLed by DSAH staff\, volunteers and Blossom Music\, our youngest OWLS ages 0-8\, explore early literacy concepts through movement\, music\, name recognition and first sight word activities. Speech and Language consultations available. Caregivers stay to supervise their child.
URL:https://dsah.ca/event/owlets-spring-2025-week-6/
LOCATION:DSAH OFFICE @ the Hamilton Italian Centre\, 420 Crerar Drive\, Hamilton\, ON\, L9A 5K3\, Canada
CATEGORIES:0-8 Programming,Advocacy / Education / Fundraising,Caregivers,Social,Therapeutic
ATTACH;FMTTYPE=image/jpeg:https://dsah.ca/wp-content/uploads/OWLS-fall-2024-25.jpg
ORGANIZER;CN="DSAH":MAILTO:contactus@dsah.ca
END:VEVENT
BEGIN:VEVENT
DTSTART;TZID=UTC:20250508T161500
DTEND;TZID=UTC:20250508T191500
DTSTAMP:20260425T222246
CREATED:20250215T182420Z
LAST-MODIFIED:20250215T182422Z
UID:23564-1746720900-1746731700@dsah.ca
SUMMARY:OWLS Spring 2025 - Week 5
DESCRIPTION:OWLS is Opportunities with Literacy and Speech an essential skill building program for individuals with Down syndrome of all ages.  \n\n\n\nRegistered Program for Members. Contact us to get on the waitlist.
URL:https://dsah.ca/event/owls-spring-2025-week-5/
LOCATION:DSAH OFFICE @ the Hamilton Italian Centre\, 420 Crerar Drive\, Hamilton\, ON\, L9A 5K3\, Canada
CATEGORIES:0-4 Programming,18+ Programming & Club G.A.I.N.,5-18 Programming,Advocacy / Education / Fundraising
ORGANIZER;CN="DSAH":MAILTO:contactus@dsah.ca
END:VEVENT
BEGIN:VEVENT
DTSTART;TZID=UTC:20250506T160000
DTEND;TZID=UTC:20250506T170000
DTSTAMP:20260425T222246
CREATED:20250215T193553Z
LAST-MODIFIED:20250215T193555Z
UID:23592-1746547200-1746550800@dsah.ca
SUMMARY:Owlets Spring 2025 - Week 5
DESCRIPTION:OWLETS AGES 0-8 TUESDAYS  \n\n\n\nLed by DSAH staff\, volunteers and Blossom Music\, our youngest OWLS ages 0-8\, explore early literacy concepts through movement\, music\, name recognition and first sight word activities. Speech and Language consultations available. Caregivers stay to supervise their child.
URL:https://dsah.ca/event/owlets-spring-2025-week-5/
LOCATION:DSAH OFFICE @ the Hamilton Italian Centre\, 420 Crerar Drive\, Hamilton\, ON\, L9A 5K3\, Canada
CATEGORIES:0-8 Programming,Advocacy / Education / Fundraising,Caregivers,Music,Social,Therapeutic
ATTACH;FMTTYPE=image/jpeg:https://dsah.ca/wp-content/uploads/OWLS-fall-2024-25.jpg
ORGANIZER;CN="DSAH":MAILTO:contactus@dsah.ca
END:VEVENT
BEGIN:VEVENT
DTSTART;TZID=UTC:20250501T161500
DTEND;TZID=UTC:20250501T191500
DTSTAMP:20260425T222246
CREATED:20250215T182324Z
LAST-MODIFIED:20250215T182327Z
UID:23562-1746116100-1746126900@dsah.ca
SUMMARY:OWLS Spring 2025 - Week 4
DESCRIPTION:OWLS is Opportunities with Literacy and Speech an essential skill building program for individuals with Down syndrome of all ages.  \n\n\n\nRegistered Program for Members. Contact us to get on the waitlist.
URL:https://dsah.ca/event/owls-spring-2025-week-4/
LOCATION:DSAH OFFICE @ the Hamilton Italian Centre\, 420 Crerar Drive\, Hamilton\, ON\, L9A 5K3\, Canada
CATEGORIES:0-4 Programming,18+ Programming & Club G.A.I.N.,5-18 Programming,Advocacy / Education / Fundraising
ORGANIZER;CN="DSAH":MAILTO:contactus@dsah.ca
END:VEVENT
BEGIN:VEVENT
DTSTART;TZID=UTC:20250429T180000
DTEND;TZID=UTC:20250429T203000
DTSTAMP:20260425T222246
CREATED:20250416T184433Z
LAST-MODIFIED:20250416T184805Z
UID:23709-1745949600-1745958600@dsah.ca
SUMMARY:CTN Pathways to Transition
DESCRIPTION:CTN Pathways to Transition Event  \n\n\n\nPresented by Community Transition Network. For Parents\, Guardians and students with Special needs ages 14-21 who are in the process of planning for life after high school. \n\n\n\nThere will be presentations by ATS\, DSO\, and ODSP  beginning at 6:30pm\, in the auditorium. Coffee\, tea\, and cookies will be provided at the refreshments table in the foyer.  There are also hydration stations near the washrooms.  \n\n\n\nVisit DSAH and other community organizations at their tables and/or attend valuable information sessions.
URL:https://dsah.ca/event/ctn-pathways-to-transition/
LOCATION:Bishop Ryan High School\, 1824 Rymal Road East\, Hamiton\, ON\, Canada
CATEGORIES:18+ Programming & Club G.A.I.N.,5-18 Programming,Advocacy / Education / Fundraising,Caregivers,Community Partner Event,Workshop/Conference/Seminar
ATTACH;FMTTYPE=application/pdf:https://dsah.ca/wp-content/uploads/Pathways-to-Transition-CTN-Apr-29.pdf
END:VEVENT
BEGIN:VEVENT
DTSTART;TZID=UTC:20250429T160000
DTEND;TZID=UTC:20250429T170000
DTSTAMP:20260425T222246
CREATED:20250215T193129Z
LAST-MODIFIED:20250215T193131Z
UID:23590-1745942400-1745946000@dsah.ca
SUMMARY:Owlets Spring 2025 - Week 4
DESCRIPTION:OWLETS AGES 0-8 TUESDAYS  \n\n\n\nLed by DSAH staff\, volunteers and Blossom Music\, our youngest OWLS ages 0-8\, explore early literacy concepts through movement\, music\, name recognition and first sight word activities. Speech and Language consultations available. Caregivers stay to supervise their child.
URL:https://dsah.ca/event/owlets-spring-2025-week-4/
LOCATION:DSAH OFFICE @ the Hamilton Italian Centre\, 420 Crerar Drive\, Hamilton\, ON\, L9A 5K3\, Canada
CATEGORIES:0-8 Programming,Advocacy / Education / Fundraising,Caregivers,Music,Social,Therapeutic
ATTACH;FMTTYPE=image/jpeg:https://dsah.ca/wp-content/uploads/OWLS-fall-2024-25.jpg
ORGANIZER;CN="DSAH":MAILTO:contactus@dsah.ca
END:VEVENT
BEGIN:VEVENT
DTSTART;TZID=UTC:20250428T180000
DTEND;TZID=UTC:20250428T210000
DTSTAMP:20260425T222246
CREATED:20250108T174946Z
LAST-MODIFIED:20250113T211238Z
UID:23376-1745863200-1745874000@dsah.ca
SUMMARY:April 28 2025 Dinner Club
DESCRIPTION:Mon April 28\, 2025 \n\n\n\n6-9pmTracie’s Place Karaoke592 Upper James St\, Hamilton\, ON L9C 2Y8
URL:https://dsah.ca/event/april-28-2025-dinner-club/
LOCATION:Tracie’s Place Karaoke\, 592 Upper James St\, Hamilton\, ON\, L9C2Y8\, Canada
CATEGORIES:18+ Programming & Club G.A.I.N.,Social,Volunteers
ATTACH;FMTTYPE=image/png:https://dsah.ca/wp-content/uploads/Adult-Dinner-Club-1-1-e1736340260483.png
ORGANIZER;CN="DSAH":MAILTO:contactus@dsah.ca
END:VEVENT
BEGIN:VEVENT
DTSTART;TZID=UTC:20250424T161500
DTEND;TZID=UTC:20250424T191500
DTSTAMP:20260425T222246
CREATED:20250215T182021Z
LAST-MODIFIED:20250215T182023Z
UID:23559-1745511300-1745522100@dsah.ca
SUMMARY:OWLS Spring 2025 - Week 3
DESCRIPTION:OWLS is Opportunities with Literacy and Speech an essential skill building program for individuals with Down syndrome of all ages.  \n\n\n\nRegistered Program for Members. Contact us to get on the waitlist.
URL:https://dsah.ca/event/owls-spring-2025-week-3/
LOCATION:DSAH OFFICE @ the Hamilton Italian Centre\, 420 Crerar Drive\, Hamilton\, ON\, L9A 5K3\, Canada
CATEGORIES:0-4 Programming,18+ Programming & Club G.A.I.N.,5-18 Programming,Advocacy / Education / Fundraising
ORGANIZER;CN="DSAH":MAILTO:contactus@dsah.ca
END:VEVENT
BEGIN:VEVENT
DTSTART;TZID=UTC:20250422T160000
DTEND;TZID=UTC:20250422T170000
DTSTAMP:20260425T222246
CREATED:20250215T192956Z
LAST-MODIFIED:20250215T192958Z
UID:23588-1745337600-1745341200@dsah.ca
SUMMARY:Owlets Spring 2025 - Week 3
DESCRIPTION:OWLETS AGES 0-8 TUESDAYS  \n\n\n\nLed by DSAH staff\, volunteers and Blossom Music\, our youngest OWLS ages 0-8\, explore early literacy concepts through movement\, music\, name recognition and first sight word activities. Speech and Language consultations available. Caregivers stay to supervise their child.
URL:https://dsah.ca/event/owlets-spring-2025-week-3/
LOCATION:DSAH OFFICE @ the Hamilton Italian Centre\, 420 Crerar Drive\, Hamilton\, ON\, L9A 5K3\, Canada
CATEGORIES:0-8 Programming,Advocacy / Education / Fundraising,Caregivers,Music,Therapeutic
ATTACH;FMTTYPE=image/jpeg:https://dsah.ca/wp-content/uploads/OWLS-fall-2024-25.jpg
ORGANIZER;CN="DSAH":MAILTO:contactus@dsah.ca
END:VEVENT
BEGIN:VEVENT
DTSTART;TZID=UTC:20250417T161500
DTEND;TZID=UTC:20250417T191500
DTSTAMP:20260425T222246
CREATED:20250215T181910Z
LAST-MODIFIED:20250215T181912Z
UID:23557-1744906500-1744917300@dsah.ca
SUMMARY:OWLS Spring 2025 - Week 2
DESCRIPTION:OWLS is Opportunities with Literacy and Speech an essential skill building program for individuals with Down syndrome of all ages.  \n\n\n\nRegistered Program for Members. Contact us to get on the waitlist.
URL:https://dsah.ca/event/owls-spring-2025-week-2/
LOCATION:DSAH OFFICE @ the Hamilton Italian Centre\, 420 Crerar Drive\, Hamilton\, ON\, L9A 5K3\, Canada
CATEGORIES:0-4 Programming,18+ Programming & Club G.A.I.N.,5-18 Programming,Advocacy / Education / Fundraising
ORGANIZER;CN="DSAH":MAILTO:contactus@dsah.ca
END:VEVENT
BEGIN:VEVENT
DTSTART;TZID=UTC:20250415T160000
DTEND;TZID=UTC:20250415T170000
DTSTAMP:20260425T222246
CREATED:20250215T192834Z
LAST-MODIFIED:20250215T192836Z
UID:23586-1744732800-1744736400@dsah.ca
SUMMARY:Owlets Spring 2025 - Week 2
DESCRIPTION:OWLETS AGES 0-8 TUESDAYS  \n\n\n\nLed by DSAH staff\, volunteers and Blossom Music\, our youngest OWLS ages 0-8\, explore early literacy concepts through movement\, music\, name recognition and first sight word activities. Speech and Language consultations available. Caregivers stay to supervise their child.
URL:https://dsah.ca/event/owlets-spring-2025-week-2/
LOCATION:DSAH OFFICE @ the Hamilton Italian Centre\, 420 Crerar Drive\, Hamilton\, ON\, L9A 5K3\, Canada
CATEGORIES:0-8 Programming,Advocacy / Education / Fundraising,Caregivers,Music,Therapeutic
ATTACH;FMTTYPE=image/jpeg:https://dsah.ca/wp-content/uploads/OWLS-fall-2024-25.jpg
ORGANIZER;CN="DSAH":MAILTO:contactus@dsah.ca
END:VEVENT
BEGIN:VEVENT
DTSTART;TZID=UTC:20250410T161500
DTEND;TZID=UTC:20250410T191500
DTSTAMP:20260425T222246
CREATED:20250215T181750Z
LAST-MODIFIED:20250215T182057Z
UID:23555-1744301700-1744312500@dsah.ca
SUMMARY:OWLS Spring 2025 - Week 1
DESCRIPTION:OWLS is Opportunities with Literacy and Speech an essential skill building program for individuals with Down syndrome of all ages.  \n\n\n\nRegistered Program for Members. Contact us to get on the waitlist.
URL:https://dsah.ca/event/owls-spring-2025-week-1/
LOCATION:DSAH OFFICE @ the Hamilton Italian Centre\, 420 Crerar Drive\, Hamilton\, ON\, L9A 5K3\, Canada
CATEGORIES:0-4 Programming,18+ Programming & Club G.A.I.N.,5-18 Programming,Advocacy / Education / Fundraising
ORGANIZER;CN="DSAH":MAILTO:contactus@dsah.ca
END:VEVENT
BEGIN:VEVENT
DTSTART;TZID=UTC:20250408T160000
DTEND;TZID=UTC:20250408T170000
DTSTAMP:20260425T222246
CREATED:20250215T192346Z
LAST-MODIFIED:20250215T192613Z
UID:23578-1744128000-1744131600@dsah.ca
SUMMARY:Owlets Spring 2025 - Week 1
DESCRIPTION:OWLETS AGES 0-8 TUESDAYS  \n\n\n\nLed by DSAH staff\, volunteers and Blossom Music\, our youngest OWLS ages 0-8\, explore early literacy concepts through movement\, music\, name recognition and first sight word activities. Speech and Language consultations available. Caregivers stay to supervise their child.
URL:https://dsah.ca/event/owlets-spring-2025-week-1/
LOCATION:DSAH OFFICE @ the Hamilton Italian Centre\, 420 Crerar Drive\, Hamilton\, ON\, L9A 5K3\, Canada
CATEGORIES:0-8 Programming,Advocacy / Education / Fundraising,Caregivers,Music,Therapeutic
ATTACH;FMTTYPE=image/jpeg:https://dsah.ca/wp-content/uploads/OWLS-fall-2024-25.jpg
ORGANIZER;CN="DSAH":MAILTO:contactus@dsah.ca
END:VEVENT
BEGIN:VEVENT
DTSTART;TZID=UTC:20250403T190000
DTEND;TZID=UTC:20250403T210000
DTSTAMP:20260425T222246
CREATED:20250216T000928Z
LAST-MODIFIED:20250216T000931Z
UID:23608-1743706800-1743714000@dsah.ca
SUMMARY:Board of Directors Meeting - April 2025
DESCRIPTION:April 2025 Board of Directors meeting via ZOOM.
URL:https://dsah.ca/event/board-of-directors-meeting-april-2025/
CATEGORIES:Board Meeting
END:VEVENT
BEGIN:VEVENT
DTSTART;TZID=UTC:20250328T180000
DTEND;TZID=UTC:20250328T210000
DTSTAMP:20260425T222246
CREATED:20241212T005132Z
LAST-MODIFIED:20241212T005134Z
UID:23244-1743184800-1743195600@dsah.ca
SUMMARY:Club GAIN - March 28 2025
DESCRIPTION:Regular Dance  \n\n\n\nClothing Closet\, Food Pantry and Snack Bar Draw
URL:https://dsah.ca/event/club-gain-march-28-2025/
LOCATION:Delta United Church\, 47 Ottawa St. S.\, Hamilton\, ONTARIO\, L8K 2C9\, Canada
CATEGORIES:18+ Programming & Club G.A.I.N.
ATTACH;FMTTYPE=image/png:https://dsah.ca/wp-content/uploads/Club-Gain-Logo.png
END:VEVENT
BEGIN:VEVENT
DTSTART;TZID=UTC:20250326T180000
DTEND;TZID=UTC:20250326T210000
DTSTAMP:20260425T222246
CREATED:20250108T174731Z
LAST-MODIFIED:20250108T174733Z
UID:23374-1743012000-1743022800@dsah.ca
SUMMARY:March 26 2025 Dinner Club
DESCRIPTION:East Side Marios1389 Upper James St. Hamilton\, ON
URL:https://dsah.ca/event/march-26-2025-dinner-club/
LOCATION:East Side Marios\, 1389 Upper James Street\, Hamilton\, ON\, Canada
CATEGORIES:18+ Programming & Club G.A.I.N.,Social,Volunteers
ATTACH;FMTTYPE=image/png:https://dsah.ca/wp-content/uploads/Adult-Dinner-Club-1-1-e1736340260483.png
ORGANIZER;CN="DSAH":MAILTO:contactus@dsah.ca
END:VEVENT
BEGIN:VEVENT
DTSTART;TZID=UTC:20250321T173000
DTEND;TZID=UTC:20250321T210000
DTSTAMP:20260425T222246
CREATED:20241212T010159Z
LAST-MODIFIED:20250215T163017Z
UID:23250-1742578200-1742590800@dsah.ca
SUMMARY:Grand Opening and World Down Syndrome Day Celebration
DESCRIPTION:Join us at the Grand Opening of our new office and program space on 3.21. World Down Syndrome Day! R.S.V.P. Below. \n\n\n\nWelcome to our new home! We encourage guests to wear semi-formal attire and walk the red carpet! Visit our new space to enjoy appetizers and mocktails\, hang out with Blossom Musik in the music room upstairs\, then starting at 7:30 join us in the big gym for more fun. \n\n\n\n\n\n\n\nR.S.V.P. Now!
URL:https://dsah.ca/event/grand-opening-and-world-down-syndrome-day-celebration/
LOCATION:DSAH OFFICE @ the Hamilton Italian Centre\, 420 Crerar Drive\, Hamilton\, ON\, L9A 5K3\, Canada
CATEGORIES:0-4 Programming,18+ Programming & Club G.A.I.N.,5-18 Programming,Advocacy / Education / Fundraising,Community Partner Event,Music,Social,Special Event,Volunteers
ATTACH;FMTTYPE=image/png:https://dsah.ca/wp-content/uploads/Blue-and-Gold-Modern-Grand-Opening-Flyer.png
ORGANIZER;CN="DSAH BOARD":MAILTO:contactus@dsah.ca
END:VEVENT
END:VCALENDAR