BEGIN:VCALENDAR
VERSION:2.0
PRODID:-//Down Syndrome Association of Hamilton - ECPv6.15.20//NONSGML v1.0//EN
CALSCALE:GREGORIAN
METHOD:PUBLISH
X-WR-CALNAME:Down Syndrome Association of Hamilton
X-ORIGINAL-URL:https://dsah.ca
X-WR-CALDESC:Events for Down Syndrome Association of Hamilton
REFRESH-INTERVAL;VALUE=DURATION:PT1H
X-Robots-Tag:noindex
X-PUBLISHED-TTL:PT1H
BEGIN:VTIMEZONE
TZID:UTC
BEGIN:STANDARD
TZOFFSETFROM:+0000
TZOFFSETTO:+0000
TZNAME:UTC
DTSTART:20240101T000000
END:STANDARD
END:VTIMEZONE
BEGIN:VTIMEZONE
TZID:America/Halifax
BEGIN:DAYLIGHT
TZOFFSETFROM:-0400
TZOFFSETTO:-0300
TZNAME:ADT
DTSTART:20240310T060000
END:DAYLIGHT
BEGIN:STANDARD
TZOFFSETFROM:-0300
TZOFFSETTO:-0400
TZNAME:AST
DTSTART:20241103T050000
END:STANDARD
BEGIN:DAYLIGHT
TZOFFSETFROM:-0400
TZOFFSETTO:-0300
TZNAME:ADT
DTSTART:20250309T060000
END:DAYLIGHT
BEGIN:STANDARD
TZOFFSETFROM:-0300
TZOFFSETTO:-0400
TZNAME:AST
DTSTART:20251102T050000
END:STANDARD
BEGIN:DAYLIGHT
TZOFFSETFROM:-0400
TZOFFSETTO:-0300
TZNAME:ADT
DTSTART:20260308T060000
END:DAYLIGHT
BEGIN:STANDARD
TZOFFSETFROM:-0300
TZOFFSETTO:-0400
TZNAME:AST
DTSTART:20261101T050000
END:STANDARD
END:VTIMEZONE
BEGIN:VEVENT
DTSTART;TZID=UTC:20251104T160000
DTEND;TZID=UTC:20251104T180000
DTSTAMP:20260425T235151
CREATED:20251013T160432Z
LAST-MODIFIED:20251013T160433Z
UID:24025-1762272000-1762279200@dsah.ca
SUMMARY:Owlets
DESCRIPTION:TUESDAYS OCTOBER 14- DECEMBER 2 \n\n\n\nAn early literacy group featuring songs\, signs and stories.  \n\n\n\nNew participants and siblings are welcome! If you haven’t attended before\, please contact us before attending. \n\n\n\nAges 0-8
URL:https://dsah.ca/event/owlets-4/
LOCATION:DSAH OFFICE @ the Hamilton Italian Centre\, 420 Crerar Drive\, Hamilton\, ON\, L9A 5K3\, Canada
CATEGORIES:0-4 Programming,0-8 Programming,Music,Therapeutic
ATTACH;FMTTYPE=image/jpeg:https://dsah.ca/wp-content/uploads/IMG_9621-scaled.jpeg
ORGANIZER;CN="DSAH":MAILTO:contactus@dsah.ca
END:VEVENT
BEGIN:VEVENT
DTSTART;TZID=America/Halifax:20251106T080000
DTEND;TZID=America/Halifax:20251106T170000
DTSTAMP:20260425T235151
CREATED:20251023T132037Z
LAST-MODIFIED:20251023T132038Z
UID:24202-1762416000-1762448400@dsah.ca
SUMMARY:OWLS
DESCRIPTION:www.dsah.ca/owls
URL:https://dsah.ca/event/owls-4/
LOCATION:ON
CATEGORIES:5-18 Programming,Advocacy / Education / Fundraising,Therapeutic
ATTACH;FMTTYPE=image/jpeg:https://dsah.ca/wp-content/uploads/LOGO-OWLS-2025-v2-.jpg
END:VEVENT
BEGIN:VEVENT
DTSTART;TZID=America/Halifax:20251106T191500
DTEND;TZID=America/Halifax:20251106T210000
DTSTAMP:20260425T235151
CREATED:20251023T133804Z
LAST-MODIFIED:20251023T133805Z
UID:24232-1762456500-1762462800@dsah.ca
SUMMARY:Board of Directors Meeting
DESCRIPTION:
URL:https://dsah.ca/event/board-of-directors-meeting/
LOCATION:DSAH OFFICE @ the Hamilton Italian Centre\, 420 Crerar Drive\, Hamilton\, ON\, L9A 5K3\, Canada
CATEGORIES:Board Meeting
ATTACH;FMTTYPE=image/jpeg:https://dsah.ca/wp-content/uploads/IMG_3336-2-scaled.jpeg
ORGANIZER;CN="DSAH BOARD":MAILTO:contactus@dsah.ca
END:VEVENT
BEGIN:VEVENT
DTSTART;TZID=UTC:20251111T160000
DTEND;TZID=UTC:20251111T180000
DTSTAMP:20260425T235151
CREATED:20251013T160515Z
LAST-MODIFIED:20251013T161139Z
UID:24027-1762876800-1762884000@dsah.ca
SUMMARY:Owlets
DESCRIPTION:TUESDAYS OCTOBER 14- DECEMBER 2 \n\n\n\nAn early literacy group featuring songs\, signs and stories.  \n\n\n\nNew participants and siblings are welcome! If you haven’t attended before\, please contact us before attending. \n\n\n\nAges 0-8
URL:https://dsah.ca/event/owlets-5/
LOCATION:DSAH OFFICE @ the Hamilton Italian Centre\, 420 Crerar Drive\, Hamilton\, ON\, L9A 5K3\, Canada
CATEGORIES:0-4 Programming,0-8 Programming,Music,Therapeutic
ATTACH;FMTTYPE=image/jpeg:https://dsah.ca/wp-content/uploads/IMG_9621-scaled.jpeg
ORGANIZER;CN="DSAH":MAILTO:contactus@dsah.ca
END:VEVENT
BEGIN:VEVENT
DTSTART;TZID=America/Halifax:20251113T160000
DTEND;TZID=America/Halifax:20251113T190000
DTSTAMP:20260425T235151
CREATED:20251023T132135Z
LAST-MODIFIED:20251023T132136Z
UID:24204-1763049600-1763060400@dsah.ca
SUMMARY:OWLS
DESCRIPTION:www.dsah.ca/owls
URL:https://dsah.ca/event/owls-5/
LOCATION:ON
CATEGORIES:5-18 Programming,Advocacy / Education / Fundraising,Therapeutic
ATTACH;FMTTYPE=image/jpeg:https://dsah.ca/wp-content/uploads/LOGO-OWLS-2025-v2-.jpg
END:VEVENT
BEGIN:VEVENT
DTSTART;TZID=America/Halifax:20251118T063000
DTEND;TZID=America/Halifax:20251118T200000
DTSTAMP:20260425T235151
CREATED:20251023T132909Z
LAST-MODIFIED:20251117T133508Z
UID:24214-1763447400-1763496000@dsah.ca
SUMMARY:Book Club - New!
DESCRIPTION:For ages 12+ who aren’t currently in OWLS. Join us and drop in MONTHLY for this casual and quieter group for individuals who enjoy reading or listening to stories.
URL:https://dsah.ca/event/book-club-new/
LOCATION:DSAH OFFICE @ the Hamilton Italian Centre\, 420 Crerar Drive\, Hamilton\, ON\, L9A 5K3\, Canada
CATEGORIES:18+ Programming & Club G.A.I.N.,5-18 Programming,Advocacy / Education / Fundraising
ATTACH;FMTTYPE=image/png:https://dsah.ca/wp-content/uploads/Book-Club.png
ORGANIZER;CN="DSAH":MAILTO:contactus@dsah.ca
END:VEVENT
BEGIN:VEVENT
DTSTART;TZID=UTC:20251118T160000
DTEND;TZID=UTC:20251118T180000
DTSTAMP:20260425T235151
CREATED:20251013T160827Z
LAST-MODIFIED:20251013T161051Z
UID:24029-1763481600-1763488800@dsah.ca
SUMMARY:Owlets
DESCRIPTION:TUESDAYS OCTOBER 14- DECEMBER 2 \n\n\n\nAn early literacy group featuring songs\, signs and stories.  \n\n\n\nNew participants and siblings are welcome! If you haven’t attended before\, please contact us before attending. \n\n\n\nAges 0-8
URL:https://dsah.ca/event/24029/
LOCATION:DSAH OFFICE @ the Hamilton Italian Centre\, 420 Crerar Drive\, Hamilton\, ON\, L9A 5K3\, Canada
CATEGORIES:0-4 Programming,0-8 Programming,Music,Therapeutic
ATTACH;FMTTYPE=image/jpeg:https://dsah.ca/wp-content/uploads/IMG_9621-scaled.jpeg
ORGANIZER;CN="DSAH":MAILTO:contactus@dsah.ca
END:VEVENT
BEGIN:VEVENT
DTSTART;TZID=America/Halifax:20251120T160000
DTEND;TZID=America/Halifax:20251120T190000
DTSTAMP:20260425T235151
CREATED:20251023T132222Z
LAST-MODIFIED:20251023T132443Z
UID:24206-1763654400-1763665200@dsah.ca
SUMMARY:OWLS
DESCRIPTION:www.dsah.ca/owls
URL:https://dsah.ca/event/owls-6/
LOCATION:ON
CATEGORIES:5-18 Programming,Advocacy / Education / Fundraising,Therapeutic
ATTACH;FMTTYPE=image/jpeg:https://dsah.ca/wp-content/uploads/LOGO-OWLS-2025-v2-.jpg
END:VEVENT
BEGIN:VEVENT
DTSTART;TZID=UTC:20251125T160000
DTEND;TZID=UTC:20251125T180000
DTSTAMP:20260425T235151
CREATED:20251013T161347Z
LAST-MODIFIED:20251013T161348Z
UID:24032-1764086400-1764093600@dsah.ca
SUMMARY:Owlets
DESCRIPTION:TUESDAYS OCTOBER 14- DECEMBER 2 \n\n\n\nAn early literacy group featuring songs\, signs and stories.  \n\n\n\nNew participants and siblings are welcome! If you haven’t attended before\, please contact us before attending. \n\n\n\nAges 0-8
URL:https://dsah.ca/event/owlets-6/
LOCATION:DSAH OFFICE @ the Hamilton Italian Centre\, 420 Crerar Drive\, Hamilton\, ON\, L9A 5K3\, Canada
CATEGORIES:0-4 Programming,0-8 Programming,Music,Therapeutic
ATTACH;FMTTYPE=image/jpeg:https://dsah.ca/wp-content/uploads/IMG_9621-scaled.jpeg
ORGANIZER;CN="DSAH":MAILTO:contactus@dsah.ca
END:VEVENT
BEGIN:VEVENT
DTSTART;TZID=America/Halifax:20251127T160000
DTEND;TZID=America/Halifax:20251127T190000
DTSTAMP:20260425T235151
CREATED:20251023T132323Z
LAST-MODIFIED:20251023T132324Z
UID:24209-1764259200-1764270000@dsah.ca
SUMMARY:OWLS
DESCRIPTION:www.dsah.ca/owls
URL:https://dsah.ca/event/owls-7/
LOCATION:ON
CATEGORIES:5-18 Programming,Advocacy / Education / Fundraising,Therapeutic
ATTACH;FMTTYPE=image/jpeg:https://dsah.ca/wp-content/uploads/LOGO-OWLS-2025-v2-.jpg
END:VEVENT
END:VCALENDAR